

BEGIN:VCALENDAR
VERSION:2.0
PRODID:-//University Scholars Programme - ECPv6.1.3//NONSGML v1.0//EN
CALSCALE:GREGORIAN
METHOD:PUBLISH
X-ORIGINAL-URL:https://usp.nus.edu.sg
X-WR-CALDESC:Events for University Scholars Programme
REFRESH-INTERVAL;VALUE=DURATION:PT1H
X-Robots-Tag:noindex
X-PUBLISHED-TTL:PT1H
BEGIN:VTIMEZONE
TZID:UTC
BEGIN:STANDARD
TZOFFSETFROM:+0000
TZOFFSETTO:+0000
TZNAME:UTC
DTSTART:20170101T000000
END:STANDARD
END:VTIMEZONE
BEGIN:VEVENT
DTSTART;TZID=UTC:20170112T180000
DTEND;TZID=UTC:20170112T200000
DTSTAMP:20260419T202639
CREATED:20190702T031050Z
LAST-MODIFIED:20190821T065126Z
UID:5103-1484244000-1484251200@usp.nus.edu.sg
SUMMARY:Farm Nursery Setup and Build
DESCRIPTION:Led by USP alum Alexius Yeo (Geography + USP\, Class of 2010) who is an urban farmer\, USP embarks on building Singapore’s very first farm institute called the Centre for Nature Literacy and Enterprise (CNLE). \nWe are calling for students and faculty who are interested to learn about organic farming\, the natural sciences\, nature-based businesses\, sustainable Permaculture design\, community development and holistic living. Even if you have never grown a plant before\, this project does not exclude you. We have a saying – if you eat\, you’re in! \nSo if you feel a stirring to find out more about this exciting endeavor that has the potential to change our lives profoundly\, email to uspalk@nus.edu.sg or alexiusyeo@carboniq.com.
URL:https://usp.nus.edu.sg/event/farm-nursery-setup-and-build/
LOCATION:USP
CATEGORIES:General
END:VEVENT
BEGIN:VEVENT
DTSTART;TZID=UTC:20170330T171000
DTEND;TZID=UTC:20170330T173000
DTSTAMP:20260419T202639
CREATED:20190702T040805Z
LAST-MODIFIED:20190702T040805Z
UID:5181-1490893800-1490895000@usp.nus.edu.sg
SUMMARY:USP Outreach – Visit by International Baccalaureate (IB) School Counsellors
DESCRIPTION:
URL:https://usp.nus.edu.sg/event/usp-outreach-visit-by-international-baccalaureate-ib-school-counsellors/
LOCATION:USP
CATEGORIES:General
END:VEVENT
BEGIN:VEVENT
DTSTART;VALUE=DATE:20170514
DTEND;VALUE=DATE:20170523
DTSTAMP:20260419T202639
CREATED:20190702T074617Z
LAST-MODIFIED:20190720T205639Z
UID:5428-1494720000-1495497599@usp.nus.edu.sg
SUMMARY:Incoming Student Delegation from UTAR\, Malaysia
DESCRIPTION:USP will host students from Universiti Tunku Abdul Rahman (UTAR)\, Malaysia. The students will take part in a community development and social entrepreneurship study trip planned by A/P Albert Teo. The visit is the reciprocal component of the Forgotten Communities Study Programme held in Malaysia last December.
URL:https://usp.nus.edu.sg/event/incoming-student-delegation-from-utar-malaysia-2/
LOCATION:USP
CATEGORIES:General
END:VEVENT
BEGIN:VEVENT
DTSTART;VALUE=DATE:20170522
DTEND;VALUE=DATE:20170527
DTSTAMP:20260419T202639
CREATED:20190702T074043Z
LAST-MODIFIED:20190821T064310Z
UID:5387-1495411200-1495843199@usp.nus.edu.sg
SUMMARY:17th AUN and 6th ASEAN+3 Educational Forum and Young Speakers’ Contest
DESCRIPTION:USP will host the Educational Forum and Young Speakers’ Contest initiated by the ASEAN University Network (AUN). The event provides a platform for students from the ASEAN region and ‘Plus Three’ countries (China\, Japan and Korea) to discuss and explore regional issues. The theme for the 2017 forum and contest is “ASEAN+3 in an Era of Global Uncertainty: Responses and Challenges” and participants will explore issues such as security\, climate change and economic challenges. Please join the participants for the Opening Ceremony on Tuesday\, 23 May by registering your attendance here.
URL:https://usp.nus.edu.sg/event/17th-aun-and-6th-asean3-educational-forum-and-young-speakers-contest/
LOCATION:USP
CATEGORIES:General
END:VEVENT
BEGIN:VEVENT
DTSTART;VALUE=DATE:20170703
DTEND;VALUE=DATE:20170707
DTSTAMP:20260419T202639
CREATED:20190702T083949Z
LAST-MODIFIED:20190821T064012Z
UID:5520-1499040000-1499385599@usp.nus.edu.sg
SUMMARY:USC Freshmen Orientation Camp: Heroes
DESCRIPTION:Organised by University Scholars Club (USC)\, the USP Freshmen Orientation Camp (O’Camp) builds on the friendships developed among the freshmen during Scholaris earlier this month\, to further integrate the freshmen into our community as the new AY approaches. \nO’Camp is part of a series of coordinated events to orientate USP freshmen for the new AY\, timeline as such: \n12 Jun: Scholaris >> 3-6 Jul: O’Camp >> 24-27 Jul: O’Week >> 12 Aug: Rag & Flag >> 18 Aug: Dinner & Dance
URL:https://usp.nus.edu.sg/event/usc-freshmen-orientation-camp-heroes/
LOCATION:USP
CATEGORIES:General
END:VEVENT
BEGIN:VEVENT
DTSTART;VALUE=DATE:20180508
DTEND;VALUE=DATE:20180509
DTSTAMP:20260419T202639
CREATED:20190703T083935Z
LAST-MODIFIED:20190722T073706Z
UID:5928-1525737600-1525823999@usp.nus.edu.sg
SUMMARY:Is a belief in God compatible with modern science? By Dr Denis Alexander (from Cambridge University)
DESCRIPTION:This is part of the “Dinner Conversations with Professors” initiative organised by USP students. It is an informal and chill conversations over food with students and a professor on a topic that interests him/her. This session with Dr Alexander will be held over lunch.
URL:https://usp.nus.edu.sg/event/is-a-belief-in-god-compatible-with-modern-science-by-dr-denis-alexander-from-cambridge-university/
LOCATION:USP
CATEGORIES:General
END:VEVENT
BEGIN:VEVENT
DTSTART;VALUE=DATE:20180821
DTEND;VALUE=DATE:20180822
DTSTAMP:20260419T202639
CREATED:20190703T085928Z
LAST-MODIFIED:20190723T031735Z
UID:5957-1534809600-1534895999@usp.nus.edu.sg
SUMMARY:Dinner Conversation: “Are Cells Just Machines?” by A/P Low Boon Chuan
DESCRIPTION:Organised by Cinnamon Conversation and initiated by students\, this is a series of informal and relaxed conversations over dinner\, between a prof and 4 to 6 students on a topic that the prof is interested in.
URL:https://usp.nus.edu.sg/event/dinner-conversation-are-cells-just-machines-by-a-p-low-boon-chuan/
LOCATION:USP
CATEGORIES:General
END:VEVENT
BEGIN:VEVENT
DTSTART;VALUE=DATE:20180828
DTEND;VALUE=DATE:20180829
DTSTAMP:20260419T202639
CREATED:20190703T085439Z
LAST-MODIFIED:20190723T031707Z
UID:5946-1535414400-1535500799@usp.nus.edu.sg
SUMMARY:Dinner Conversation: “Why Are There Competing Narrative About the Poor in Singapore?” by A/P Albert Teo
DESCRIPTION:Organised by Cinnamon Conversation and initiated by students\, this is a series of informal and relaxed conversations over dinner\, between a prof and 4 to 6 students on a topic that the prof is interested in.
URL:https://usp.nus.edu.sg/event/dinner-conversation-why-are-there-competing-narrative-about-the-poor-in-singapore-by-a-p-albert-teo/
LOCATION:USP
CATEGORIES:General
END:VEVENT
BEGIN:VEVENT
DTSTART;VALUE=DATE:20181025
DTEND;VALUE=DATE:20181026
DTSTAMP:20260419T202639
CREATED:20190704T022819Z
LAST-MODIFIED:20190821T040726Z
UID:6023-1540425600-1540511999@usp.nus.edu.sg
SUMMARY:“Really Connected by Being Connected to Social Media?” by A/P Joonmo Son
DESCRIPTION:Dinner Conversations with USP Profs:\n[Organised by Cinnamon Conversation and initiated by students\, this is a series of informal and relaxed conversations over dinner\, between a prof/guest and 4 to 6 students on a topic that the prof/guest is interested in.] \n“Really Connected by Being Connected to Social Media?” by A/P Joonmo Son\nProf Son\, an associate professor from NUS Department of Sociology\, is USP’s newest residential fellow. His research interests lie in Social Capital\, Volunteering\, Health\, Economic Sociology and Stratification – learn more about him here.
URL:https://usp.nus.edu.sg/event/really-connected-by-being-connected-to-social-media-by-a-p-joonmo-son/
LOCATION:USP
CATEGORIES:General
END:VEVENT
BEGIN:VEVENT
DTSTART;TZID=UTC:20190212T143000
DTEND;TZID=UTC:20190212T163000
DTSTAMP:20260419T202639
CREATED:20190704T080656Z
LAST-MODIFIED:20190704T080656Z
UID:6215-1549981800-1549989000@usp.nus.edu.sg
SUMMARY:USP Outreach – Visit by Jurong Pioneer Junior College teachers
DESCRIPTION:
URL:https://usp.nus.edu.sg/event/usp-outreach-visit-by-jurong-pioneer-junior-college-teachers/
LOCATION:USP
CATEGORIES:General
END:VEVENT
BEGIN:VEVENT
DTSTART;VALUE=DATE:20190217
DTEND;VALUE=DATE:20190219
DTSTAMP:20260419T202639
CREATED:20190704T070323Z
LAST-MODIFIED:20190821T040128Z
UID:6190-1550361600-1550534399@usp.nus.edu.sg
SUMMARY:Data Journalism Hackathon
DESCRIPTION:This is USP’s first ever data hackathon event\, organised by our Quantitative Reasoning professors and a team of students. Named “Data Journalism”\, it aims to encourage USP and NUS students to think critically and to reason quantitatively with real world data\, utilising it to develop solutions to today’s complex problems. Participants will deliver a 3-minute video designed to tell a story with data and will have the opportunity to meet speakers\, mentors and judges from IBM\, Google\, URA and CNA. Find out more HERE.
URL:https://usp.nus.edu.sg/event/data-journalism-hackathon/
LOCATION:USP
CATEGORIES:General
END:VEVENT
BEGIN:VEVENT
DTSTART;VALUE=DATE:20190325
DTEND;VALUE=DATE:20190329
DTSTAMP:20260419T202639
CREATED:20190704T084644Z
LAST-MODIFIED:20190704T084644Z
UID:6264-1553472000-1553817599@usp.nus.edu.sg
SUMMARY:Comics Appreciation Week
DESCRIPTION:There is a range of activities planned out for you during this USP’s first Comics Appreciation Week. Here is the schedule:\n25 Mar\, Mon: DC Animated Movie Night – Wonder Woman (2009)\n26 Mar\, Tue: Fanfare – Where Fans Talk About Comics\n27 Mar\, Wed: Marvel Movie Night – Black Panther (2018)\n28 Mar: Thu: The Sessions – Spotlight on Jerry Hinds
URL:https://usp.nus.edu.sg/event/comics-appreciation-week/
LOCATION:USP
END:VEVENT
END:VCALENDAR