

BEGIN:VCALENDAR
VERSION:2.0
PRODID:-//University Scholars Programme - ECPv6.1.3//NONSGML v1.0//EN
CALSCALE:GREGORIAN
METHOD:PUBLISH
X-WR-CALNAME:University Scholars Programme
X-ORIGINAL-URL:https://usp.nus.edu.sg
X-WR-CALDESC:Events for University Scholars Programme
REFRESH-INTERVAL;VALUE=DURATION:PT1H
X-Robots-Tag:noindex
X-PUBLISHED-TTL:PT1H
BEGIN:VTIMEZONE
TZID:UTC
BEGIN:STANDARD
TZOFFSETFROM:+0000
TZOFFSETTO:+0000
TZNAME:UTC
DTSTART:20160101T000000
END:STANDARD
END:VTIMEZONE
BEGIN:VEVENT
DTSTART;TZID=UTC:20160712T200000
DTEND;TZID=UTC:20160712T223000
DTSTAMP:20260423T190030
CREATED:20190628T070920Z
LAST-MODIFIED:20190628T070920Z
UID:4263-1468353600-1468362600@usp.nus.edu.sg
SUMMARY:USP Commencement Ceremony 2016
DESCRIPTION:The USP graduating Class of 2016 will be receiving their scrolls at this evening ceremony. This will be a joint ceremony between the USP and the Faculty of Engineering. \nThe guest speaker for the ceremony will be Ms Euleen Goh\, Rector of Cinnamon College (USP).
URL:https://usp.nus.edu.sg/event/usp-commencement-ceremony-2016/
LOCATION:University Cultural Centre\, NUS
CATEGORIES:General
END:VEVENT
BEGIN:VEVENT
DTSTART;TZID=UTC:20170707T200000
DTEND;TZID=UTC:20170707T223000
DTSTAMP:20260423T190030
CREATED:20190702T083631Z
LAST-MODIFIED:20190702T083631Z
UID:5507-1499457600-1499466600@usp.nus.edu.sg
SUMMARY:USP Commencement Ceremony 2017
DESCRIPTION:The USP graduating Class of 2017 will be receiving their scrolls at this evening ceremony. This will be a joint ceremony between the USP\, Saw Swee Hock School of Public Health and Institute of Systems Science. \nThe guest speaker is Member of Parliament (and USP alum) Ms Tin Pei Ling.
URL:https://usp.nus.edu.sg/event/usp-commencement-ceremony-2017/
LOCATION:University Cultural Centre\, NUS
CATEGORIES:General
END:VEVENT
BEGIN:VEVENT
DTSTART;TZID=UTC:20190715T190000
DTEND;TZID=UTC:20190715T220000
DTSTAMP:20260423T190030
CREATED:20190705T040121Z
LAST-MODIFIED:20190718T042603Z
UID:6473-1563217200-1563228000@usp.nus.edu.sg
SUMMARY:USP Commencement 2019
DESCRIPTION:The USP graduating Class of 2019 will be receiving their scrolls at this evening ceremony. This will be a joint ceremony between the USP and Faculty of Engineering. \nThe guest speaker is USP alum Mr Rameez Ansar\, Co-founder of Circles.Life.
URL:https://usp.nus.edu.sg/event/usp-commencement-2019/
LOCATION:University Cultural Centre\, NUS
CATEGORIES:General
END:VEVENT
END:VCALENDAR