

BEGIN:VCALENDAR
VERSION:2.0
PRODID:-//University Scholars Programme - ECPv6.1.3//NONSGML v1.0//EN
CALSCALE:GREGORIAN
METHOD:PUBLISH
X-WR-CALNAME:University Scholars Programme
X-ORIGINAL-URL:https://usp.nus.edu.sg
X-WR-CALDESC:Events for University Scholars Programme
REFRESH-INTERVAL;VALUE=DURATION:PT1H
X-Robots-Tag:noindex
X-PUBLISHED-TTL:PT1H
BEGIN:VTIMEZONE
TZID:UTC
BEGIN:STANDARD
TZOFFSETFROM:+0000
TZOFFSETTO:+0000
TZNAME:UTC
DTSTART:20180101T000000
END:STANDARD
END:VTIMEZONE
BEGIN:VEVENT
DTSTART;TZID=UTC:20180206T180000
DTEND;TZID=UTC:20180206T190000
DTSTAMP:20260420T171635
CREATED:20190703T063213Z
LAST-MODIFIED:20190703T063213Z
UID:5810-1517940000-1517943600@usp.nus.edu.sg
SUMMARY:NUS-Waseda Double Degree Programme Sharing Session
DESCRIPTION:This informal sharing session is for students who are interested in pursuing the NUS-Waseda Double Degree Programme (DDP). This session is an opportunity for current DDP students (year 4 students) to share their experiences and for year 1 students to ask questions and gain a better understanding of the programme.
URL:https://usp.nus.edu.sg/event/nus-waseda-double-degree-programme-sharing-session-3/
LOCATION:Tutorial Room 1\, USP
CATEGORIES:General
END:VEVENT
BEGIN:VEVENT
DTSTART;TZID=UTC:20180910T200000
DTEND;TZID=UTC:20180910T210000
DTSTAMP:20260420T171635
CREATED:20190703T095945Z
LAST-MODIFIED:20190703T095945Z
UID:6004-1536609600-1536613200@usp.nus.edu.sg
SUMMARY:Permaculture@USP Info Night
DESCRIPTION:Organised by USP alum Alexius Yeo (Geography + USP\, Class of 2010)\, Permaculture@USP is into its third round this semester. This unique programme in USP explores environmental issues through evening workshops\, dumpster diving\, forest school and even an overseas trip. If you have an insatiable curiosity for sustainable living\, bio-mimicry\, systems thinking\, urban farming and anything green\, drop by this info night to find out more about the programme. No pre-requisites for the programme except being (or have been) a USP student and a curious mind for nature.
URL:https://usp.nus.edu.sg/event/permacultureusp-info-night/
LOCATION:Tutorial Room 1\, USP
CATEGORIES:General
END:VEVENT
BEGIN:VEVENT
DTSTART;TZID=UTC:20190829T190000
DTEND;TZID=UTC:20190829T220000
DTSTAMP:20260420T171635
CREATED:20190826T083323Z
LAST-MODIFIED:20190912T040349Z
UID:13729-1567105200-1567116000@usp.nus.edu.sg
SUMMARY:Creative Writing Workshop – ‘A Very Human Way of Making Life More Bearable’: The Art of Fiction
DESCRIPTION:This semester\, USP has invited an experienced instructor\, Dr Yeo Wei Wei\, to conduct a creative writing workshop for USP students. Every Thursday\, starting this 29 Aug\, this workshop will allow students to discover the truth of Kurt Vonnegut’s statement (he describes creative writing as ‘a very human way of making life more bearable’) and provides an introduction to the fundamentals of writing fiction – short stories and novels.
URL:https://usp.nus.edu.sg/event/creative-writing-workshop-a-very-human-way-of-making-life-more-bearable-the-art-of-fiction/2019-08-29/
LOCATION:Tutorial Room 1\, USP
CATEGORIES:Student Life
END:VEVENT
END:VCALENDAR