

BEGIN:VCALENDAR
VERSION:2.0
PRODID:-//University Scholars Programme - ECPv6.1.3//NONSGML v1.0//EN
CALSCALE:GREGORIAN
METHOD:PUBLISH
X-WR-CALNAME:University Scholars Programme
X-ORIGINAL-URL:https://usp.nus.edu.sg
X-WR-CALDESC:Events for University Scholars Programme
REFRESH-INTERVAL;VALUE=DURATION:PT1H
X-Robots-Tag:noindex
X-PUBLISHED-TTL:PT1H
BEGIN:VTIMEZONE
TZID:UTC
BEGIN:STANDARD
TZOFFSETFROM:+0000
TZOFFSETTO:+0000
TZNAME:UTC
DTSTART:20190101T000000
END:STANDARD
END:VTIMEZONE
BEGIN:VEVENT
DTSTART;VALUE=DATE:20190321
DTEND;VALUE=DATE:20190322
DTSTAMP:20260422T015503
CREATED:20190704T085054Z
LAST-MODIFIED:20190722T082114Z
UID:6271-1553126400-1553212799@usp.nus.edu.sg
SUMMARY:QR Centre: LaTeX Workshop
DESCRIPTION:The Quantitative Reasoning (QR) Centre is organising a LaTeX workshop. LaTeX (pronounced lah-TECK) is a document writing system widely adopted in many academic fields\, to deliver high quality and professional documents in both the sciences and the humanities. Conducted by QR Assistant Lee Ning Yuan\, participants will be taken through the basics and other useful techniques to get them immediately started on using LaTeX in their work.
URL:https://usp.nus.edu.sg/event/qr-centre-latex-workshop/
LOCATION:Town Plaza Global Learning Room
CATEGORIES:General
END:VEVENT
END:VCALENDAR