

BEGIN:VCALENDAR
VERSION:2.0
PRODID:-//University Scholars Programme - ECPv6.1.3//NONSGML v1.0//EN
CALSCALE:GREGORIAN
METHOD:PUBLISH
X-ORIGINAL-URL:https://usp.nus.edu.sg
X-WR-CALDESC:Events for University Scholars Programme
REFRESH-INTERVAL;VALUE=DURATION:PT1H
X-Robots-Tag:noindex
X-PUBLISHED-TTL:PT1H
BEGIN:VTIMEZONE
TZID:UTC
BEGIN:STANDARD
TZOFFSETFROM:+0000
TZOFFSETTO:+0000
TZNAME:UTC
DTSTART:20180101T000000
END:STANDARD
END:VTIMEZONE
BEGIN:VEVENT
DTSTART;TZID=UTC:20180405T193000
DTEND;TZID=UTC:20180405T210000
DTSTAMP:20260424T165800
CREATED:20190703T074752Z
LAST-MODIFIED:20190703T074752Z
UID:5883-1522956600-1522962000@usp.nus.edu.sg
SUMMARY:Where is My Body?
DESCRIPTION:Throughout our lives\, we have internalised various narratives from the media and loved ones on the bodies society finds acceptable\, enviable and even undesirable. Organised by Gender Collective\, this closed-door discussion on body ideals hopes to give better clarity on body positivity.
URL:https://usp.nus.edu.sg/event/where-is-my-body/
LOCATION:Theme Room 1\, USP
CATEGORIES:General
END:VEVENT
BEGIN:VEVENT
DTSTART;TZID=UTC:20190211T190000
DTEND;TZID=UTC:20190211T213000
DTSTAMP:20260424T165800
CREATED:20190704T080734Z
LAST-MODIFIED:20190704T080734Z
UID:6217-1549911600-1549920600@usp.nus.edu.sg
SUMMARY:The Privilege Talk: Gender
DESCRIPTION:In this closed-door dialogue session organised by Gender Collective\, the talk aims to situate the nitty-gritty of privilege discourse in our lived experiences in Singapore\, using gender as a lens\, and empower people to think about how structures of privilege affect groups in society in their own time.
URL:https://usp.nus.edu.sg/event/the-privilege-talk-gender/
LOCATION:Theme Room 1\, USP
CATEGORIES:General
END:VEVENT
BEGIN:VEVENT
DTSTART;TZID=UTC:20190212T203000
DTEND;TZID=UTC:20190212T220000
DTSTAMP:20260424T165800
CREATED:20190704T080427Z
LAST-MODIFIED:20190704T080427Z
UID:6208-1550003400-1550008800@usp.nus.edu.sg
SUMMARY:Exchange Exchange 2019
DESCRIPTION:Organised by Love\, USP\, this closed-door dialogue will discuss the challenges of participating in an overseas exchange programme. Whether you are a current exchange student struggling to adjust\, a returning exchange student who doesn’t feel comfortable sharing a less-than-ideal experience in most spaces\, a prospective exchange student feeling anxious about leaving\, or a non-exchange student feeling left behind\, you are welcome to join.
URL:https://usp.nus.edu.sg/event/exchange-exchange-2019/
LOCATION:Theme Room 1\, USP
CATEGORIES:General
END:VEVENT
BEGIN:VEVENT
DTSTART;TZID=UTC:20190318T193000
DTEND;TZID=UTC:20190318T210000
DTSTAMP:20260424T165800
CREATED:20190704T085300Z
LAST-MODIFIED:20190704T085300Z
UID:6276-1552937400-1552942800@usp.nus.edu.sg
SUMMARY:Dialogue on Abusive Relationships
DESCRIPTION:Organised by Love\, USP\, this dialogue session invites representatives from Brave Spaces\, AWARE and PAVE to discuss about abusive relationships – identifying what is abuse\, how to provide support\, why abusive relationships happen\, and the challenges in leaving them. Organisers hoped that this would be a comfortable and safe space to learn and empathise\, and to recognise what an abusive relationship is\, so that we can move towards building healthy relationships in our lives.
URL:https://usp.nus.edu.sg/event/dialogue-on-abusive-relationships/
LOCATION:Theme Room 1\, USP
CATEGORIES:General
END:VEVENT
BEGIN:VEVENT
DTSTART;TZID=UTC:20190325T193000
DTEND;TZID=UTC:20190325T213000
DTSTAMP:20260424T165800
CREATED:20190704T084437Z
LAST-MODIFIED:20190819T080023Z
UID:6259-1553542200-1553549400@usp.nus.edu.sg
SUMMARY:Self-Perception and Identity
DESCRIPTION:Organised by Love\, USP\, this closed-door session will discuss the topic of negative self-perception and identity. Organisers hope that this would be a comfortable and safe space to learn from one another on ways to better cope with these issues.
URL:https://usp.nus.edu.sg/event/self-perception-and-identity/
LOCATION:Theme Room 1\, USP
CATEGORIES:Student Life
END:VEVENT
END:VCALENDAR