

BEGIN:VCALENDAR
VERSION:2.0
PRODID:-//University Scholars Programme - ECPv6.1.3//NONSGML v1.0//EN
CALSCALE:GREGORIAN
METHOD:PUBLISH
X-WR-CALNAME:University Scholars Programme
X-ORIGINAL-URL:https://usp.nus.edu.sg
X-WR-CALDESC:Events for University Scholars Programme
REFRESH-INTERVAL;VALUE=DURATION:PT1H
X-Robots-Tag:noindex
X-PUBLISHED-TTL:PT1H
BEGIN:VTIMEZONE
TZID:UTC
BEGIN:STANDARD
TZOFFSETFROM:+0000
TZOFFSETTO:+0000
TZNAME:UTC
DTSTART:20160101T000000
END:STANDARD
END:VTIMEZONE
BEGIN:VEVENT
DTSTART;VALUE=DATE:20160220
DTEND;VALUE=DATE:20160221
DTSTAMP:20260425T161641
CREATED:20190627T080747Z
LAST-MODIFIED:20190722T091838Z
UID:3869-1455926400-1456012799@usp.nus.edu.sg
SUMMARY:Civilisation of Iran Study Programme
DESCRIPTION:Eight USP students\, together with three students from the Department of Malay Studies\, will travel to Tehran to explore various aspects of Iranian civilisation. Led by Associate Professor Farid Alatas\, the students will be hosted by the Faculty of World Studies at the University of Tehran and will attend lectures by Iranian experts and visit universities\, research centres\, museums and other cultural sites.
URL:https://usp.nus.edu.sg/event/civilisation-of-iran-study-programme/
LOCATION:Tehran\, Iran
CATEGORIES:General
END:VEVENT
BEGIN:VEVENT
DTSTART;VALUE=DATE:20180224
DTEND;VALUE=DATE:20180303
DTSTAMP:20260425T161641
CREATED:20190703T034218Z
LAST-MODIFIED:20190703T034218Z
UID:5763-1519430400-1520035199@usp.nus.edu.sg
SUMMARY:Civilisation of Iran
DESCRIPTION:Ten USP students will travel to Tehran on a programme led by USP faculty Prof Syed Farid Alatas. The programme aims to acquaint students with various aspects of Iranian civilisation\, with particular emphasis on the relationship between Iran and the West in the areas of philosophy\, literature and the social sciences. Organised jointly with the Faculty of World Studies at the University of Tehran\, USP students will be hosted by their Iranian counterparts.
URL:https://usp.nus.edu.sg/event/civilisation-of-iran/
LOCATION:Tehran\, Iran
CATEGORIES:General
END:VEVENT
END:VCALENDAR