

BEGIN:VCALENDAR
VERSION:2.0
PRODID:-//University Scholars Programme - ECPv6.1.3//NONSGML v1.0//EN
CALSCALE:GREGORIAN
METHOD:PUBLISH
X-ORIGINAL-URL:https://usp.nus.edu.sg
X-WR-CALDESC:Events for University Scholars Programme
REFRESH-INTERVAL;VALUE=DURATION:PT1H
X-Robots-Tag:noindex
X-PUBLISHED-TTL:PT1H
BEGIN:VTIMEZONE
TZID:UTC
BEGIN:STANDARD
TZOFFSETFROM:+0000
TZOFFSETTO:+0000
TZNAME:UTC
DTSTART:20180101T000000
END:STANDARD
END:VTIMEZONE
BEGIN:VEVENT
DTSTART;TZID=UTC:20180906T080000
DTEND;TZID=UTC:20180906T170000
DTSTAMP:20260420T180243
CREATED:20190703T100112Z
LAST-MODIFIED:20190821T041217Z
UID:6009-1536220800-1536253200@usp.nus.edu.sg
SUMMARY:QR Centre Programming Week (1st Workshop): Introduction to Python with Telegram Bots
DESCRIPTION:The QR Centre is organising two workshops for those in the USP community interested in programming. These workshops are run by USP students who are computing enthusiasts. \nThe 1st workshop is Introduction to Python with Telegram Bots. Python is a general purpose programming language with wide applications such as game development\, data processing and machine learning. It is easy to pick up and many of its concepts are transferable to other programming languages as well. No experience is required for this workshop as they will cover the basics of programming in Python\, followed by a hands-on development of your own Telegram bot.
URL:https://usp.nus.edu.sg/event/qr-centre-programming-week-1st-workshop-introduction-to-python-with-telegram-bots/
LOCATION:Seminar Room 3\, Education Resource Centre
CATEGORIES:General
END:VEVENT
BEGIN:VEVENT
DTSTART;TZID=UTC:20180911T190000
DTEND;TZID=UTC:20180911T210000
DTSTAMP:20260420T180243
CREATED:20190703T095617Z
LAST-MODIFIED:20190821T041146Z
UID:6001-1536692400-1536699600@usp.nus.edu.sg
SUMMARY:QR Centre Programming Week (2nd Workshop): Data Analysis with Python
DESCRIPTION:The QR Centre is organising two workshops for those in the USP community interested in programming. These workshops are run by USP students who are computing enthusiasts. \nThe 2nd workshop is Data Analysis with Python. Participants will learn the basics of handling and analysing publicly available real life data with Python and the Pandas Library. If time permits\, the student instructors will also share how the processed data can be used to predict HDB resale prices.
URL:https://usp.nus.edu.sg/event/qr-centre-programming-week-2nd-workshop-data-analysis-with-python/
LOCATION:Seminar Room 3\, Education Resource Centre
CATEGORIES:General
END:VEVENT
END:VCALENDAR