

BEGIN:VCALENDAR
VERSION:2.0
PRODID:-//University Scholars Programme - ECPv6.1.3//NONSGML v1.0//EN
CALSCALE:GREGORIAN
METHOD:PUBLISH
X-WR-CALNAME:University Scholars Programme
X-ORIGINAL-URL:https://usp.nus.edu.sg
X-WR-CALDESC:Events for University Scholars Programme
REFRESH-INTERVAL;VALUE=DURATION:PT1H
X-Robots-Tag:noindex
X-PUBLISHED-TTL:PT1H
BEGIN:VTIMEZONE
TZID:UTC
BEGIN:STANDARD
TZOFFSETFROM:+0000
TZOFFSETTO:+0000
TZNAME:UTC
DTSTART:20170101T000000
END:STANDARD
END:VTIMEZONE
BEGIN:VEVENT
DTSTART;TZID=UTC:20170209T143000
DTEND;TZID=UTC:20170209T153000
DTSTAMP:20260422T180204
CREATED:20190702T035609Z
LAST-MODIFIED:20190702T035609Z
UID:5170-1486650600-1486654200@usp.nus.edu.sg
SUMMARY:NUS-Waseda Double Degree Programme Sharing Session
DESCRIPTION:This informal sharing session is for students interested in pursuing the NUS-Waseda Double Degree Programme (DDP). The session is an opportunity for current DDP students (year 4 students) to share their experiences and for year 1 students to ask questions and gain a better understanding of the programme.
URL:https://usp.nus.edu.sg/event/nus-waseda-double-degree-programme-sharing-session-2/
LOCATION:Seminar Room 2\, USP
CATEGORIES:General
END:VEVENT
BEGIN:VEVENT
DTSTART;TZID=UTC:20190215T190000
DTEND;TZID=UTC:20190215T203000
DTSTAMP:20260422T180204
CREATED:20190704T074446Z
LAST-MODIFIED:20190704T074446Z
UID:6200-1550257200-1550262600@usp.nus.edu.sg
SUMMARY:Introduction to Blockchain
DESCRIPTION:USP alum Zhai Yunjie (Psychology + USP\, Class of 2018)\, currently a Product and User-experience designer\, will be conducting two talks on Blockchain for the USP community. We strongly encourage students to join these interesting sessions. \nFri\, 15 Feb (1st talk) > Introduction to Blockchain\nThis talk will touch on the fundamentals of blockchain technology and cryptocurrency\, different form of blockchain technology available today\, problems with existing blockchains\, and why blockchain technology is important to you and your job in future. The 2nd talk will be on 22 Feb\, Fri.
URL:https://usp.nus.edu.sg/event/introduction-to-blockchain/
LOCATION:Seminar Room 2\, USP
CATEGORIES:General
END:VEVENT
BEGIN:VEVENT
DTSTART;TZID=UTC:20190222T190000
DTEND;TZID=UTC:20190222T203000
DTSTAMP:20260422T180204
CREATED:20190704T064330Z
LAST-MODIFIED:20190704T064330Z
UID:6170-1550862000-1550867400@usp.nus.edu.sg
SUMMARY:Introduction to Design Thinking
DESCRIPTION:Introduction to Blockchain > (2nd talk) > Design Thinking \nThis talk will discuss on how do we apply design thinking to solve problems\, what are some case studies and use-cases where blockchain solutions were applied\, and designing solutions and solving problems in your area of study and interest.
URL:https://usp.nus.edu.sg/event/introduction-to-design-thinking/
LOCATION:Seminar Room 2\, USP
CATEGORIES:General
END:VEVENT
END:VCALENDAR