

BEGIN:VCALENDAR
VERSION:2.0
PRODID:-//University Scholars Programme - ECPv6.1.3//NONSGML v1.0//EN
CALSCALE:GREGORIAN
METHOD:PUBLISH
X-WR-CALNAME:University Scholars Programme
X-ORIGINAL-URL:https://usp.nus.edu.sg
X-WR-CALDESC:Events for University Scholars Programme
REFRESH-INTERVAL;VALUE=DURATION:PT1H
X-Robots-Tag:noindex
X-PUBLISHED-TTL:PT1H
BEGIN:VTIMEZONE
TZID:UTC
BEGIN:STANDARD
TZOFFSETFROM:+0000
TZOFFSETTO:+0000
TZNAME:UTC
DTSTART:20160101T000000
END:STANDARD
END:VTIMEZONE
BEGIN:VEVENT
DTSTART;TZID=UTC:20160818T160000
DTEND;TZID=UTC:20160818T190000
DTSTAMP:20260422T205157
CREATED:20190628T072614Z
LAST-MODIFIED:20190628T072614Z
UID:4315-1471536000-1471546800@usp.nus.edu.sg
SUMMARY:USP Outreach @ St Joseph’s Institution University Fair
DESCRIPTION:
URL:https://usp.nus.edu.sg/event/usp-outreach-st-josephs-institution-university-fair/
LOCATION:School Hall\, St Joseph’s Institution
CATEGORIES:General
END:VEVENT
BEGIN:VEVENT
DTSTART;TZID=UTC:20170817T173000
DTEND;TZID=UTC:20170817T193000
DTSTAMP:20260422T205157
CREATED:20190702T085238Z
LAST-MODIFIED:20190702T085238Z
UID:5548-1502991000-1502998200@usp.nus.edu.sg
SUMMARY:USP Outreach @ St Joseph’s Institution University and Scholarship Fair
DESCRIPTION:
URL:https://usp.nus.edu.sg/event/usp-outreach-st-josephs-institution-university-and-scholarship-fair/
LOCATION:School Hall\, St Joseph’s Institution
CATEGORIES:General
END:VEVENT
END:VCALENDAR