

BEGIN:VCALENDAR
VERSION:2.0
PRODID:-//University Scholars Programme - ECPv6.1.3//NONSGML v1.0//EN
CALSCALE:GREGORIAN
METHOD:PUBLISH
X-WR-CALNAME:University Scholars Programme
X-ORIGINAL-URL:https://usp.nus.edu.sg
X-WR-CALDESC:Events for University Scholars Programme
REFRESH-INTERVAL;VALUE=DURATION:PT1H
X-Robots-Tag:noindex
X-PUBLISHED-TTL:PT1H
BEGIN:VTIMEZONE
TZID:UTC
BEGIN:STANDARD
TZOFFSETFROM:+0000
TZOFFSETTO:+0000
TZNAME:UTC
DTSTART:20170101T000000
END:STANDARD
END:VTIMEZONE
BEGIN:VEVENT
DTSTART;TZID=UTC:20170531T150000
DTEND;TZID=UTC:20170531T170000
DTSTAMP:20260421T200516
CREATED:20190702T064623Z
LAST-MODIFIED:20190702T064623Z
UID:5311-1496242800-1496250000@usp.nus.edu.sg
SUMMARY:USP Outreach – SJI International Singapore University and Scholarship Fair
DESCRIPTION:
URL:https://usp.nus.edu.sg/event/usp-outreach-sji-international-singapore-university-and-scholarship-fair/
LOCATION:School Hall\, SJI International
CATEGORIES:General
END:VEVENT
BEGIN:VEVENT
DTSTART;TZID=UTC:20180508T150000
DTEND;TZID=UTC:20180508T170000
DTSTAMP:20260421T200516
CREATED:20190703T083501Z
LAST-MODIFIED:20190703T083501Z
UID:5925-1525791600-1525798800@usp.nus.edu.sg
SUMMARY:USP Outreach @ SJI International Singapore University and Scholarship Fair
DESCRIPTION:
URL:https://usp.nus.edu.sg/event/usp-outreach-sji-international-singapore-university-and-scholarship-fair-2/
LOCATION:School Hall\, SJI International
CATEGORIES:General
END:VEVENT
BEGIN:VEVENT
DTSTART;TZID=UTC:20200116T143000
DTEND;TZID=UTC:20200116T163000
DTSTAMP:20260421T200516
CREATED:20200115T025015Z
LAST-MODIFIED:20200115T025015Z
UID:15004-1579185000-1579192200@usp.nus.edu.sg
SUMMARY:USP Outreach @ St Joseph’s Institution International
DESCRIPTION:
URL:https://usp.nus.edu.sg/event/usp-outreach-st-josephs-institution-international/
LOCATION:School Hall\, SJI International
CATEGORIES:Outreach
END:VEVENT
END:VCALENDAR