

BEGIN:VCALENDAR
VERSION:2.0
PRODID:-//University Scholars Programme - ECPv6.1.3//NONSGML v1.0//EN
CALSCALE:GREGORIAN
METHOD:PUBLISH
X-WR-CALNAME:University Scholars Programme
X-ORIGINAL-URL:https://usp.nus.edu.sg
X-WR-CALDESC:Events for University Scholars Programme
REFRESH-INTERVAL;VALUE=DURATION:PT1H
X-Robots-Tag:noindex
X-PUBLISHED-TTL:PT1H
BEGIN:VTIMEZONE
TZID:UTC
BEGIN:STANDARD
TZOFFSETFROM:+0000
TZOFFSETTO:+0000
TZNAME:UTC
DTSTART:20160101T000000
END:STANDARD
END:VTIMEZONE
BEGIN:VEVENT
DTSTART;TZID=UTC:20160714T143000
DTEND;TZID=UTC:20160714T143000
DTSTAMP:20260425T150544
CREATED:20190628T070611Z
LAST-MODIFIED:20190628T070611Z
UID:4251-1468506600-1468506600@usp.nus.edu.sg
SUMMARY:USP Outreach @ Serangoon Junior College Higher Education Symposium
DESCRIPTION:
URL:https://usp.nus.edu.sg/event/usp-outreach-serangoon-junior-college-higher-education-symposium/
LOCATION:School Hall\, Serangoon Junior College
CATEGORIES:General
END:VEVENT
BEGIN:VEVENT
DTSTART;TZID=UTC:20170713T150000
DTEND;TZID=UTC:20170713T173000
DTSTAMP:20260425T150544
CREATED:20190702T083115Z
LAST-MODIFIED:20190702T083115Z
UID:5493-1499958000-1499967000@usp.nus.edu.sg
SUMMARY:USP Outreach – Serangoon Junior College Higher Education Symposium
DESCRIPTION:
URL:https://usp.nus.edu.sg/event/usp-outreach-serangoon-junior-college-higher-education-symposium-2/
LOCATION:School Hall\, Serangoon Junior College
CATEGORIES:General
END:VEVENT
END:VCALENDAR