

BEGIN:VCALENDAR
VERSION:2.0
PRODID:-//University Scholars Programme - ECPv6.1.3//NONSGML v1.0//EN
CALSCALE:GREGORIAN
METHOD:PUBLISH
X-WR-CALNAME:University Scholars Programme
X-ORIGINAL-URL:https://usp.nus.edu.sg
X-WR-CALDESC:Events for University Scholars Programme
REFRESH-INTERVAL;VALUE=DURATION:PT1H
X-Robots-Tag:noindex
X-PUBLISHED-TTL:PT1H
BEGIN:VTIMEZONE
TZID:UTC
BEGIN:STANDARD
TZOFFSETFROM:+0000
TZOFFSETTO:+0000
TZNAME:UTC
DTSTART:20160101T000000
END:STANDARD
END:VTIMEZONE
BEGIN:VEVENT
DTSTART;TZID=UTC:20160511T120000
DTEND;TZID=UTC:20160511T150000
DTSTAMP:20260421T111756
CREATED:20190628T065144Z
LAST-MODIFIED:20190628T065144Z
UID:4194-1462968000-1462978800@usp.nus.edu.sg
SUMMARY:USP Outreach @ River Valley High School Career and Scholarship Day
DESCRIPTION:
URL:https://usp.nus.edu.sg/event/usp-outreach-river-valley-high-school-career-and-scholarship-day/
LOCATION:School Hall\, River Valley High School
CATEGORIES:General
END:VEVENT
BEGIN:VEVENT
DTSTART;TZID=UTC:20160820T083000
DTEND;TZID=UTC:20160820T123000
DTSTAMP:20260421T111756
CREATED:20190628T072435Z
LAST-MODIFIED:20190628T072435Z
UID:4308-1471681800-1471696200@usp.nus.edu.sg
SUMMARY:USP Outreach @ River Valley High School Dialogue with Local Institutions of Higher Learning
DESCRIPTION:
URL:https://usp.nus.edu.sg/event/usp-outreach-river-valley-high-school-dialogue-with-local-institutions-of-higher-learning/
LOCATION:School Hall\, River Valley High School
CATEGORIES:General
END:VEVENT
BEGIN:VEVENT
DTSTART;TZID=UTC:20170812T083000
DTEND;TZID=UTC:20170812T110000
DTSTAMP:20260421T111756
CREATED:20190702T090103Z
LAST-MODIFIED:20190702T090103Z
UID:5564-1502526600-1502535600@usp.nus.edu.sg
SUMMARY:USP Outreach @ River Valley High School Higher Education and Career Guidance Dialogue with Parents
DESCRIPTION:
URL:https://usp.nus.edu.sg/event/usp-outreach-river-valley-high-school-higher-education-and-career-guidance-dialogue-with-parents/
LOCATION:School Hall\, River Valley High School
CATEGORIES:General
END:VEVENT
BEGIN:VEVENT
DTSTART;TZID=UTC:20180425T133000
DTEND;TZID=UTC:20180425T153000
DTSTAMP:20260421T111756
CREATED:20190703T072427Z
LAST-MODIFIED:20190703T072427Z
UID:5856-1524663000-1524670200@usp.nus.edu.sg
SUMMARY:School Hall\, River Valley High School
DESCRIPTION:
URL:https://usp.nus.edu.sg/event/school-hall-river-valley-high-school/
LOCATION:School Hall\, River Valley High School
CATEGORIES:General
END:VEVENT
BEGIN:VEVENT
DTSTART;TZID=UTC:20190424T130000
DTEND;TZID=UTC:20190424T150000
DTSTAMP:20260421T111756
CREATED:20190704T093149Z
LAST-MODIFIED:20190819T075439Z
UID:6315-1556110800-1556118000@usp.nus.edu.sg
SUMMARY:USP Outreach – River Valley High School Higher Education\, Career Guidance and Scholarship Fair
DESCRIPTION:
URL:https://usp.nus.edu.sg/event/usp-outreach-river-valley-high-school-higher-education-career-guidance-and-scholarship-fair/
LOCATION:School Hall\, River Valley High School
CATEGORIES:Outreach
END:VEVENT
END:VCALENDAR