

BEGIN:VCALENDAR
VERSION:2.0
PRODID:-//University Scholars Programme - ECPv6.1.3//NONSGML v1.0//EN
CALSCALE:GREGORIAN
METHOD:PUBLISH
X-WR-CALNAME:University Scholars Programme
X-ORIGINAL-URL:https://usp.nus.edu.sg
X-WR-CALDESC:Events for University Scholars Programme
REFRESH-INTERVAL;VALUE=DURATION:PT1H
X-Robots-Tag:noindex
X-PUBLISHED-TTL:PT1H
BEGIN:VTIMEZONE
TZID:UTC
BEGIN:STANDARD
TZOFFSETFROM:+0000
TZOFFSETTO:+0000
TZNAME:UTC
DTSTART:20160101T000000
END:STANDARD
END:VTIMEZONE
BEGIN:VEVENT
DTSTART;TZID=UTC:20160524T133000
DTEND;TZID=UTC:20160524T153000
DTSTAMP:20260422T025025
CREATED:20190628T040525Z
LAST-MODIFIED:20190628T040525Z
UID:4129-1464096600-1464103800@usp.nus.edu.sg
SUMMARY:USP Outreach @ Cedar Girls’ Secondary School Education and Career Exhibition
DESCRIPTION:
URL:https://usp.nus.edu.sg/event/usp-outreach-cedar-girls-secondary-school-education-and-career-exhibition/
LOCATION:School Hall\, Cedar Girls’ Secondary School
CATEGORIES:General
END:VEVENT
BEGIN:VEVENT
DTSTART;TZID=UTC:20170522T131500
DTEND;TZID=UTC:20170522T151500
DTSTAMP:20260422T025025
CREATED:20190702T073953Z
LAST-MODIFIED:20190702T073953Z
UID:5385-1495458900-1495466100@usp.nus.edu.sg
SUMMARY:USP Outreach – Cedar Girls’ Secondary School Education and Career Exhibition
DESCRIPTION:
URL:https://usp.nus.edu.sg/event/usp-outreach-cedar-girls-secondary-school-education-and-career-exhibition-2/
LOCATION:School Hall\, Cedar Girls’ Secondary School
CATEGORIES:General
END:VEVENT
END:VCALENDAR