

BEGIN:VCALENDAR
VERSION:2.0
PRODID:-//University Scholars Programme - ECPv6.1.3//NONSGML v1.0//EN
CALSCALE:GREGORIAN
METHOD:PUBLISH
X-WR-CALNAME:University Scholars Programme
X-ORIGINAL-URL:https://usp.nus.edu.sg
X-WR-CALDESC:Events for University Scholars Programme
REFRESH-INTERVAL;VALUE=DURATION:PT1H
X-Robots-Tag:noindex
X-PUBLISHED-TTL:PT1H
BEGIN:VTIMEZONE
TZID:UTC
BEGIN:STANDARD
TZOFFSETFROM:+0000
TZOFFSETTO:+0000
TZNAME:UTC
DTSTART:20170101T000000
END:STANDARD
END:VTIMEZONE
BEGIN:VEVENT
DTSTART;TZID=UTC:20171012T193000
DTEND;TZID=UTC:20171012T203000
DTSTAMP:20260426T010411
CREATED:20190703T025543Z
LAST-MODIFIED:20190821T063224Z
UID:5673-1507836600-1507840200@usp.nus.edu.sg
SUMMARY:Singapore Creative Writing Residency Presents Miriam Bird Greenberg
DESCRIPTION:Join our Writer-in Residence Ms Miriam Bird Greenberg as she presents a compelling body of work inspired by travel and those who travel. Along with reading her poetry\, Ms Greenberg will also share about her work with economic migrants and asylum seekers of Hong Kong’s Chungking Mansions. This session will be moderated by poet Desmond Kon Zhicheng-Mingdé. \nThe Singapore Creative Writing Residency is co-organised by The Arts House and USP. \nInterested students\, please register HERE.
URL:https://usp.nus.edu.sg/event/singapore-creative-writing-residency-presents-miriam-bird-greenberg/
LOCATION:Play Den\, The Arts House
CATEGORIES:General
END:VEVENT
BEGIN:VEVENT
DTSTART;VALUE=DATE:20180125
DTEND;VALUE=DATE:20180126
DTSTAMP:20260426T010411
CREATED:20190703T033452Z
LAST-MODIFIED:20190821T042843Z
UID:5741-1516838400-1516924799@usp.nus.edu.sg
SUMMARY:The Truth Told Slant: A Poetry Showcase
DESCRIPTION:Join USP students\, who have been mentored by Singapore Creative Writing Resident Miriam Bird Greenberg\, for an evening of poetry that rewrites the dictionary\, experiments in documentary poetics\, and delves into the familiar condition of the human soul. \nThe Singapore Creative Writing Residency is co-organised by The Arts House and the National University of Singapore University Scholars Programme. \nGet your tickets HERE. 
URL:https://usp.nus.edu.sg/event/the-truth-told-slant-a-poetry-showcase/
LOCATION:Play Den\, The Arts House
CATEGORIES:General
END:VEVENT
END:VCALENDAR