

BEGIN:VCALENDAR
VERSION:2.0
PRODID:-//University Scholars Programme - ECPv6.1.3//NONSGML v1.0//EN
CALSCALE:GREGORIAN
METHOD:PUBLISH
X-ORIGINAL-URL:https://usp.nus.edu.sg
X-WR-CALDESC:Events for University Scholars Programme
REFRESH-INTERVAL;VALUE=DURATION:PT1H
X-Robots-Tag:noindex
X-PUBLISHED-TTL:PT1H
BEGIN:VTIMEZONE
TZID:UTC
BEGIN:STANDARD
TZOFFSETFROM:+0000
TZOFFSETTO:+0000
TZNAME:UTC
DTSTART:20170101T000000
END:STANDARD
END:VTIMEZONE
BEGIN:VEVENT
DTSTART;VALUE=DATE:20171211
DTEND;VALUE=DATE:20171222
DTSTAMP:20260424T074810
CREATED:20190703T032533Z
LAST-MODIFIED:20190703T032533Z
UID:5725-1512950400-1513900799@usp.nus.edu.sg
SUMMARY:Forgotten Communities: A Study of New Villages in Malaysia
DESCRIPTION:Since 2012\, Forgotten Communities has brought students to Malaysia to engage in ethnographic research and contribute to mapping the community assets of rural New Villages. USP students will travel to two villages in the state of Penang this December and will stay in the villages for the course of the study.
URL:https://usp.nus.edu.sg/event/forgotten-communities-a-study-of-new-villages-in-malaysia-2/
LOCATION:Penang\, Malaysia
CATEGORIES:General
END:VEVENT
END:VCALENDAR