

BEGIN:VCALENDAR
VERSION:2.0
PRODID:-//University Scholars Programme - ECPv6.1.3//NONSGML v1.0//EN
CALSCALE:GREGORIAN
METHOD:PUBLISH
X-ORIGINAL-URL:https://usp.nus.edu.sg
X-WR-CALDESC:Events for University Scholars Programme
REFRESH-INTERVAL;VALUE=DURATION:PT1H
X-Robots-Tag:noindex
X-PUBLISHED-TTL:PT1H
BEGIN:VTIMEZONE
TZID:UTC
BEGIN:STANDARD
TZOFFSETFROM:+0000
TZOFFSETTO:+0000
TZNAME:UTC
DTSTART:20160101T000000
END:STANDARD
END:VTIMEZONE
BEGIN:VEVENT
DTSTART;TZID=UTC:20160528T143000
DTEND;TZID=UTC:20160528T180000
DTSTAMP:20260413T060413
CREATED:20190628T040226Z
LAST-MODIFIED:20190628T040226Z
UID:4120-1464445800-1464458400@usp.nus.edu.sg
SUMMARY:USP Outreach @ Biz Dean’s Welcome Tea 2016
DESCRIPTION:
URL:https://usp.nus.edu.sg/event/usp-outreach-biz-deans-welcome-tea-2016/
LOCATION:NUSS Guild House
CATEGORIES:General
END:VEVENT
BEGIN:VEVENT
DTSTART;TZID=UTC:20170520T143000
DTEND;TZID=UTC:20170520T180000
DTSTAMP:20260413T060413
CREATED:20190702T074157Z
LAST-MODIFIED:20190702T074157Z
UID:5412-1495290600-1495303200@usp.nus.edu.sg
SUMMARY:USP Outreach – NUS BIZ Dean’s Welcome Tea
DESCRIPTION:
URL:https://usp.nus.edu.sg/event/usp-outreach-nus-biz-deans-welcome-tea/
LOCATION:NUSS Guild House
CATEGORIES:General
END:VEVENT
BEGIN:VEVENT
DTSTART;TZID=UTC:20180512T103000
DTEND;TZID=UTC:20180512T130000
DTSTAMP:20260413T060413
CREATED:20190703T081459Z
LAST-MODIFIED:20190703T081459Z
UID:5910-1526121000-1526130000@usp.nus.edu.sg
SUMMARY:USP Outreach @ NUS School of Computing Info Session
DESCRIPTION:
URL:https://usp.nus.edu.sg/event/usp-outreach-nus-school-of-computing-info-session/
LOCATION:NUSS Guild House
CATEGORIES:General
END:VEVENT
BEGIN:VEVENT
DTSTART;TZID=UTC:20180519T143000
DTEND;TZID=UTC:20180519T180000
DTSTAMP:20260413T060413
CREATED:20190703T080503Z
LAST-MODIFIED:20190703T080503Z
UID:5892-1526740200-1526752800@usp.nus.edu.sg
SUMMARY:USP Outreach @ Biz Dean's Welcome Tea
DESCRIPTION:
URL:https://usp.nus.edu.sg/event/usp-outreach-biz-deans-welcome-tea/
LOCATION:NUSS Guild House
CATEGORIES:General
END:VEVENT
END:VCALENDAR