

BEGIN:VCALENDAR
VERSION:2.0
PRODID:-//University Scholars Programme - ECPv6.1.3//NONSGML v1.0//EN
CALSCALE:GREGORIAN
METHOD:PUBLISH
X-WR-CALNAME:University Scholars Programme
X-ORIGINAL-URL:https://usp.nus.edu.sg
X-WR-CALDESC:Events for University Scholars Programme
REFRESH-INTERVAL;VALUE=DURATION:PT1H
X-Robots-Tag:noindex
X-PUBLISHED-TTL:PT1H
BEGIN:VTIMEZONE
TZID:UTC
BEGIN:STANDARD
TZOFFSETFROM:+0000
TZOFFSETTO:+0000
TZNAME:UTC
DTSTART:20180101T000000
END:STANDARD
END:VTIMEZONE
BEGIN:VEVENT
DTSTART;TZID=UTC:20180920T183000
DTEND;TZID=UTC:20180920T203000
DTSTAMP:20260420T062749
CREATED:20190703T095226Z
LAST-MODIFIED:20190703T095226Z
UID:5993-1537468200-1537475400@usp.nus.edu.sg
SUMMARY:Chua Thian Poh Community Leadership Centre (CTPCLC) Info Session
DESCRIPTION:Learn to take the lead in creating a community movement and make informed decisions to collectively solve issues on the ground. Join CTPCLC info session to find out more about its programmes and admissions process.  \nCTPCLC is supported by USP.
URL:https://usp.nus.edu.sg/event/chua-thian-poh-community-leadership-centre-ctpclc-info-session/
LOCATION:Ngee Ann Kongsi Auditorium
CATEGORIES:General
END:VEVENT
END:VCALENDAR