

BEGIN:VCALENDAR
VERSION:2.0
PRODID:-//University Scholars Programme - ECPv6.1.3//NONSGML v1.0//EN
CALSCALE:GREGORIAN
METHOD:PUBLISH
X-WR-CALNAME:University Scholars Programme
X-ORIGINAL-URL:https://usp.nus.edu.sg
X-WR-CALDESC:Events for University Scholars Programme
REFRESH-INTERVAL;VALUE=DURATION:PT1H
X-Robots-Tag:noindex
X-PUBLISHED-TTL:PT1H
BEGIN:VTIMEZONE
TZID:UTC
BEGIN:STANDARD
TZOFFSETFROM:+0000
TZOFFSETTO:+0000
TZNAME:UTC
DTSTART:20180101T000000
END:STANDARD
END:VTIMEZONE
BEGIN:VEVENT
DTSTART;TZID=UTC:20180206T190000
DTEND;TZID=UTC:20180206T210000
DTSTAMP:20260420T093354
CREATED:20190703T063136Z
LAST-MODIFIED:20190821T042726Z
UID:5808-1517943600-1517950800@usp.nus.edu.sg
SUMMARY:QR Centre Programming Week (1st Workshop): Excel Visual Basic Applications
DESCRIPTION:The QR Centre is organising two workshops for those in the USP community interested in programming. These workshops are run by USP students who are computing enthusiasts. \nThe 1st workshop is Excel Visual Basic Applications (VBA). It aims to share some of the fascinating capabilities of Excel that can be unlocked through VBA\, such as automation of tasks\, so you do not have to sieve through tons of data or constantly type extremely long formulae. Participants will learn the basics of VBA programming\, culminating in the development of a simple programme to calculate income tax.
URL:https://usp.nus.edu.sg/event/qr-centre-programming-week-1st-workshop-excel-visual-basic-applications/
LOCATION:Multimedia Lab\, USP
CATEGORIES:General
END:VEVENT
BEGIN:VEVENT
DTSTART;TZID=UTC:20180208T190000
DTEND;TZID=UTC:20180208T210000
DTSTAMP:20260420T093354
CREATED:20190703T063053Z
LAST-MODIFIED:20190703T063053Z
UID:5805-1518116400-1518123600@usp.nus.edu.sg
SUMMARY:QR Centre Programming Week (2nd Workshop): Intro to Python with Telegram Bots
DESCRIPTION:The 2nd workshop is Intro to Python with Telegram Bots. Python is a general purpose programming language with wide applications such as game development\, data processing and machine learning. It is easy to pick up\, and many of its concepts are transferable to other programming languages as well. No experience is required for this workshop. Participants will learn the basics of programming in Python\, followed by a hands-on development of their own Telegram bot.
URL:https://usp.nus.edu.sg/event/qr-centre-programming-week-2nd-workshop-intro-to-python-with-telegram-bots/
LOCATION:Multimedia Lab\, USP
CATEGORIES:General
END:VEVENT
END:VCALENDAR