

BEGIN:VCALENDAR
VERSION:2.0
PRODID:-//University Scholars Programme - ECPv6.1.3//NONSGML v1.0//EN
CALSCALE:GREGORIAN
METHOD:PUBLISH
X-WR-CALNAME:University Scholars Programme
X-ORIGINAL-URL:https://usp.nus.edu.sg
X-WR-CALDESC:Events for University Scholars Programme
REFRESH-INTERVAL;VALUE=DURATION:PT1H
X-Robots-Tag:noindex
X-PUBLISHED-TTL:PT1H
BEGIN:VTIMEZONE
TZID:UTC
BEGIN:STANDARD
TZOFFSETFROM:+0000
TZOFFSETTO:+0000
TZNAME:UTC
DTSTART:20190101T000000
END:STANDARD
END:VTIMEZONE
BEGIN:VEVENT
DTSTART;TZID=UTC:20190228T123000
DTEND;TZID=UTC:20190228T140000
DTSTAMP:20260420T225241
CREATED:20190704T063117Z
LAST-MODIFIED:20190704T063117Z
UID:6162-1551357000-1551362400@usp.nus.edu.sg
SUMMARY:USP Outreach @ Victoria School Camp Excel
DESCRIPTION:
URL:https://usp.nus.edu.sg/event/usp-outreach-victoria-school-camp-excel-4/
LOCATION:Multi-Purpose Hall\, Victoria School
CATEGORIES:General
END:VEVENT
END:VCALENDAR