

BEGIN:VCALENDAR
VERSION:2.0
PRODID:-//University Scholars Programme - ECPv6.1.3//NONSGML v1.0//EN
CALSCALE:GREGORIAN
METHOD:PUBLISH
X-WR-CALNAME:University Scholars Programme
X-ORIGINAL-URL:https://usp.nus.edu.sg
X-WR-CALDESC:Events for University Scholars Programme
REFRESH-INTERVAL;VALUE=DURATION:PT1H
X-Robots-Tag:noindex
X-PUBLISHED-TTL:PT1H
BEGIN:VTIMEZONE
TZID:UTC
BEGIN:STANDARD
TZOFFSETFROM:+0000
TZOFFSETTO:+0000
TZNAME:UTC
DTSTART:20160101T000000
END:STANDARD
END:VTIMEZONE
BEGIN:VEVENT
DTSTART;VALUE=DATE:20160902
DTEND;VALUE=DATE:20160903
DTSTAMP:20260420T112952
CREATED:20190628T083833Z
LAST-MODIFIED:20190722T091142Z
UID:4409-1472774400-1472860799@usp.nus.edu.sg
SUMMARY:Conversations@8
DESCRIPTION:Conversations@8 is a series of informal gatherings where alumni\, students\, staff and faculty may reconnect\, meet new friends and share experiences.
URL:https://usp.nus.edu.sg/event/conversations8-2/
LOCATION:Master’s Commons
CATEGORIES:General
END:VEVENT
BEGIN:VEVENT
DTSTART;TZID=UTC:20160913T160000
DTEND;TZID=UTC:20160913T180000
DTSTAMP:20260420T112952
CREATED:20190628T083446Z
LAST-MODIFIED:20190628T083446Z
UID:4398-1473782400-1473789600@usp.nus.edu.sg
SUMMARY:USP Fellows’ Welcome Tea
DESCRIPTION:USP organises a series of “Dinner Conversations” — informal sessions aimed at encouraging USP students to explore new horizons of work by having them interact with USP Fellows over dinner. USP Fellows are specially appointed faculty members from various faculties\, schools\, and disciplines across NUS\, who are committed to scholarship and mentoring students. \nTo start this off for AY16/17\, we have invited the USP Fellows to come meet with USP students at the USP Fellows’ Welcome Tea. 
URL:https://usp.nus.edu.sg/event/usp-fellows-welcome-tea/
LOCATION:Master’s Commons
CATEGORIES:General
END:VEVENT
BEGIN:VEVENT
DTSTART;TZID=UTC:20190829T163000
DTEND;TZID=UTC:20190829T180000
DTSTAMP:20260420T112952
CREATED:20190826T082554Z
LAST-MODIFIED:20190826T082554Z
UID:13725-1567096200-1567101600@usp.nus.edu.sg
SUMMARY:Undergraduate and Postgraduate Scholarship Talk
DESCRIPTION:Organised by USP Career Services\, this scholarship talk by BrightSparks is for students who are looking for undergraduate scholarship or postgraduate scholarship. Join this session to learn tips and tricks in applying for your desired scholarship and receive an exclusive 2019 BrightSparks Scholarship Guidebook.
URL:https://usp.nus.edu.sg/event/undergraduate-and-postgraduate-scholarship-talk/
LOCATION:Master’s Commons
CATEGORIES:Career Services
END:VEVENT
END:VCALENDAR