

BEGIN:VCALENDAR
VERSION:2.0
PRODID:-//University Scholars Programme - ECPv6.1.3//NONSGML v1.0//EN
CALSCALE:GREGORIAN
METHOD:PUBLISH
X-ORIGINAL-URL:https://usp.nus.edu.sg
X-WR-CALDESC:Events for University Scholars Programme
REFRESH-INTERVAL;VALUE=DURATION:PT1H
X-Robots-Tag:noindex
X-PUBLISHED-TTL:PT1H
BEGIN:VTIMEZONE
TZID:UTC
BEGIN:STANDARD
TZOFFSETFROM:+0000
TZOFFSETTO:+0000
TZNAME:UTC
DTSTART:20160101T000000
END:STANDARD
END:VTIMEZONE
BEGIN:VEVENT
DTSTART;TZID=UTC:20161010T200000
DTEND;TZID=UTC:20161010T213000
DTSTAMP:20260421T060754
CREATED:20190628T085522Z
LAST-MODIFIED:20190821T065418Z
UID:4438-1476129600-1476135000@usp.nus.edu.sg
SUMMARY:The Sessions: The Media Market – The Effect of the US’s Privatised Media on Elections
DESCRIPTION:With the US Presidential elections happening in a month’s time\, The Sessions team invites all USP students and staff to come discuss the role of the media in shaping politics and elections. Dr Eric Loepp\, from the Political Science Department at the University of Wisconsin\, will be speaking via Skype on the effect of the US’s privatised media on elections. USP faculty Dr Shawna Metzger will be moderating the session. \nPlease register here.
URL:https://usp.nus.edu.sg/event/the-sessions-the-media-market-the-effect-of-the-uss-privatised-media-on-elections/
LOCATION:Master’s Commons\, USP
CATEGORIES:General
END:VEVENT
BEGIN:VEVENT
DTSTART;TZID=UTC:20170118T133000
DTEND;TZID=UTC:20170118T133000
DTSTAMP:20260421T060754
CREATED:20190702T023753Z
LAST-MODIFIED:20190702T023753Z
UID:5082-1484746200-1484746200@usp.nus.edu.sg
SUMMARY:USP Outreach – Visit by Nan Hua High School Students
DESCRIPTION:
URL:https://usp.nus.edu.sg/event/usp-outreach-visit-by-nan-hua-high-school-students/
LOCATION:Master’s Commons\, USP
CATEGORIES:General
END:VEVENT
BEGIN:VEVENT
DTSTART;TZID=UTC:20170310T153000
DTEND;TZID=UTC:20170310T170000
DTSTAMP:20260421T060754
CREATED:20190702T052817Z
LAST-MODIFIED:20190702T052817Z
UID:5227-1489159800-1489165200@usp.nus.edu.sg
SUMMARY:Postgraduate Presentation by Duke-NUS @ USP
DESCRIPTION:Clinicians of the future will not only need to practise medicine\, but also play a role in improving the practice of medicine. Find out how you can apply your training in USP to medicine\, thinking critically and asking the right questions to offer fresh perspectives on overcoming challenges in healthcare.
URL:https://usp.nus.edu.sg/event/postgraduate-presentation-by-duke-nus-usp/
LOCATION:Master’s Commons\, USP
CATEGORIES:General
END:VEVENT
BEGIN:VEVENT
DTSTART;TZID=UTC:20170315T133000
DTEND;TZID=UTC:20170315T173000
DTSTAMP:20260421T060754
CREATED:20190702T052434Z
LAST-MODIFIED:20190702T052434Z
UID:5217-1489584600-1489599000@usp.nus.edu.sg
SUMMARY:Career Discovery Workshop
DESCRIPTION:This workshop is organised for final year students who are still unsure about what jobs to apply for\, or what career to pursue.
URL:https://usp.nus.edu.sg/event/career-discovery-workshop/
LOCATION:Master’s Commons\, USP
CATEGORIES:General
END:VEVENT
BEGIN:VEVENT
DTSTART;TZID=UTC:20170324T130000
DTEND;TZID=UTC:20170324T140000
DTSTAMP:20260421T060754
CREATED:20190702T052126Z
LAST-MODIFIED:20190821T064519Z
UID:5209-1490360400-1490364000@usp.nus.edu.sg
SUMMARY:Information Session: Student Exchange Programme to the University of Oregon
DESCRIPTION:The Robert D Clark Honors College at the University of Oregon is one of USP’s long-standing Student Exchange Programme (SEP) partners. The exchange has been on hold for the past few years but is set to resume in AY2018/2019. Professor Terry Hunt (Dean of Robert D Clark Honors College and Professor of Anthropology) and Elizabeth Raisanen (Director of Undergraduate Advising at Robert D Clark Honors College and Instructor of Literature) will provide an overview of the Honors College and the University of Oregon. Students interested in pursuing SEP to the United States in AY2018/19 are strongly encouraged to attend this session.
URL:https://usp.nus.edu.sg/event/information-session-student-exchange-programme-to-the-university-of-oregon/
LOCATION:Master’s Commons\, USP
CATEGORIES:General
END:VEVENT
BEGIN:VEVENT
DTSTART;TZID=UTC:20170330T160000
DTEND;TZID=UTC:20170330T173000
DTSTAMP:20260421T060754
CREATED:20190702T040844Z
LAST-MODIFIED:20190702T040844Z
UID:5183-1490889600-1490895000@usp.nus.edu.sg
SUMMARY:USP Fellows’ Tea Session
DESCRIPTION:USP organises a series of “Dinner Conversations” — informal sessions aimed at encouraging USP students to explore new horizons of work by having them interact with USP Fellows over dinner. (USP Fellows are specially appointed faculty members from various faculties\, schools\, and disciplines across NUS\, who are committed to scholarship and mentoring students.) \nIn this special Tea Session\, we are happy to have Prof Wang Gungwu and USP Rector Ms Euleen Goh joining USP Fellows and students in conversation over tea and snacks.
URL:https://usp.nus.edu.sg/event/usp-fellows-tea-session/
LOCATION:Master’s Commons\, USP
CATEGORIES:General
END:VEVENT
BEGIN:VEVENT
DTSTART;VALUE=DATE:20170725
DTEND;VALUE=DATE:20170726
DTSTAMP:20260421T060754
CREATED:20190702T082033Z
LAST-MODIFIED:20190722T092308Z
UID:5473-1500940800-1501027199@usp.nus.edu.sg
SUMMARY:Dialogue on Sectarianism
DESCRIPTION:Led by Prof Syed Farid Alatas\, the dialogue on sectarianism will deal with problems of Sunni-Shi’ite conflict witnessed throughout the Muslim world today. The session will involve a discussion on the nature of this conflict and assess ways in which it can be dealt with.
URL:https://usp.nus.edu.sg/event/dialogue-on-sectarianism/
LOCATION:Master’s Commons\, USP
CATEGORIES:General
END:VEVENT
BEGIN:VEVENT
DTSTART;TZID=UTC:20171024T140000
DTEND;TZID=UTC:20171024T150000
DTSTAMP:20260421T060754
CREATED:20190703T025000Z
LAST-MODIFIED:20190703T025000Z
UID:5662-1508853600-1508857200@usp.nus.edu.sg
SUMMARY:Career Discovery Workshop
DESCRIPTION:USP Career Services is organising a career discovery workshop for USP students who are exploring their career options.
URL:https://usp.nus.edu.sg/event/career-discovery-workshop-2/
LOCATION:Master’s Commons\, USP
CATEGORIES:General
END:VEVENT
BEGIN:VEVENT
DTSTART;TZID=UTC:20181017T190000
DTEND;TZID=UTC:20181017T200000
DTSTAMP:20260421T060754
CREATED:20190704T023735Z
LAST-MODIFIED:20190704T023735Z
UID:6037-1539802800-1539806400@usp.nus.edu.sg
SUMMARY:Info Session on Coffee Shop Talk in Aceh
DESCRIPTION:Initiated by two USP alums\, “Coffee Shop Talk in Aceh” will explore peace-building\, activism and humanitarianism in Aceh\, Indonesia. Aceh has experienced a combination of: civil war; a destructive tsunami; one of the largest international humanitarian responses for tsunami victims; an influx of Rohingya and Bangladeshi refugees; a province-wide network of human rights activists; and 13 years of peace. The trip will involve learning from a ground-up perspective – focusing on those who have fought in the civil war\, advocated for human rights and are helping to rebuild Aceh. The two-week programme will take place in June 2019. \nUSP alum Nursyazwani (History + USP\, Class of 2013)\, will provide further information to give an overview of the programme\, its objectives and to answer any questions. Students interested in the programme are encouraged to attend. Applications for ‘Coffee Shop Talk in Aceh’ will open in December 2018.
URL:https://usp.nus.edu.sg/event/info-session-on-coffee-shop-talk-in-aceh/
LOCATION:Master’s Commons\, USP
CATEGORIES:General
END:VEVENT
BEGIN:VEVENT
DTSTART;TZID=UTC:20181017T190000
DTEND;TZID=UTC:20181017T200000
DTSTAMP:20260421T060754
CREATED:20190704T023641Z
LAST-MODIFIED:20190821T040829Z
UID:6035-1539802800-1539806400@usp.nus.edu.sg
SUMMARY:Information Session for New USP International Programme: “Coffee Shop Talk in Aceh: Peacebuilding • Activism • Humanitarianism”
DESCRIPTION:USP will offer a new study trip to Aceh\, Indonesia in June 2019. Initiated and led by two USP alums\, Nursyazwani (History + USP\, Class of 2013) and Amos Hor (Political Science + Economics + USP\, Class of 2014)\, the programme will focus on peacebuilding\, activism and humanitarianism.  \n*As above timing clashes with USS\, we have arranged a separate info session on the same day for Year 1 students interested in the programme:\nTime: 5.30pm – 6.30pm
URL:https://usp.nus.edu.sg/event/information-session-for-new-usp-international-programme-coffee-shop-talk-in-aceh-peacebuilding-%e2%80%a2-activism-%e2%80%a2-humanitarianism/
LOCATION:Master’s Commons\, USP
CATEGORIES:General
END:VEVENT
END:VCALENDAR