

BEGIN:VCALENDAR
VERSION:2.0
PRODID:-//University Scholars Programme - ECPv6.1.3//NONSGML v1.0//EN
CALSCALE:GREGORIAN
METHOD:PUBLISH
X-ORIGINAL-URL:https://usp.nus.edu.sg
X-WR-CALDESC:Events for University Scholars Programme
REFRESH-INTERVAL;VALUE=DURATION:PT1H
X-Robots-Tag:noindex
X-PUBLISHED-TTL:PT1H
BEGIN:VTIMEZONE
TZID:UTC
BEGIN:STANDARD
TZOFFSETFROM:+0000
TZOFFSETTO:+0000
TZNAME:UTC
DTSTART:20160101T000000
END:STANDARD
END:VTIMEZONE
BEGIN:VEVENT
DTSTART;TZID=UTC:20161028T200000
DTEND;TZID=UTC:20161028T220000
DTSTAMP:20260421T200126
CREATED:20190628T084510Z
LAST-MODIFIED:20190628T084510Z
UID:4416-1477684800-1477692000@usp.nus.edu.sg
SUMMARY:Scholars Cinema: The Cabinet of Dr Caligari
DESCRIPTION:
URL:https://usp.nus.edu.sg/event/scholars-cinema-the-cabinet-of-dr-caligari/
LOCATION:Master’s Commons\, USP
CATEGORIES:General
END:VEVENT
BEGIN:VEVENT
DTSTART;TZID=UTC:20170126T153000
DTEND;TZID=UTC:20170126T170000
DTSTAMP:20260421T200126
CREATED:20190628T093350Z
LAST-MODIFIED:20190628T093350Z
UID:4496-1485444600-1485450000@usp.nus.edu.sg
SUMMARY:Career Talk by Ministry of Foreign Affairs
DESCRIPTION:
URL:https://usp.nus.edu.sg/event/career-talk-by-ministry-of-foreign-affairs/
LOCATION:Master’s Commons\, USP
CATEGORIES:General
END:VEVENT
BEGIN:VEVENT
DTSTART;TZID=UTC:20170324T163000
DTEND;TZID=UTC:20170324T171500
DTSTAMP:20260421T200126
CREATED:20190702T052031Z
LAST-MODIFIED:20190702T052031Z
UID:5207-1490373000-1490375700@usp.nus.edu.sg
SUMMARY:Deep Breathing and Relaxation Exercise Session by NUS Counselling and Psychological Services
DESCRIPTION:As the second semester crosses the half-way mark and work continues to pile\, some of us may be getting anxious and feeling stressed. Come\, take a break and join a deep breathing and relaxation exercise session conducted by NUS Counselling and Psychological Services (CPS) counsellor Fabiola Agustina Kansil.
URL:https://usp.nus.edu.sg/event/deep-breathing-and-relaxation-exercise-session-by-nus-counselling-and-psychological-services/
LOCATION:Master’s Commons\, USP
CATEGORIES:General
END:VEVENT
BEGIN:VEVENT
DTSTART;TZID=UTC:20170819T080000
DTEND;TZID=UTC:20170819T150000
DTSTAMP:20260421T200126
CREATED:20190702T085138Z
LAST-MODIFIED:20190702T085138Z
UID:5546-1503129600-1503154800@usp.nus.edu.sg
SUMMARY:Chua Thian Poh Community Leadership Programme Commencement 2017
DESCRIPTION:
URL:https://usp.nus.edu.sg/event/chua-thian-poh-community-leadership-programme-commencement-2017/
LOCATION:Master’s Commons\, USP
CATEGORIES:General
END:VEVENT
BEGIN:VEVENT
DTSTART;TZID=UTC:20180319T080000
DTEND;TZID=UTC:20180319T170000
DTSTAMP:20260421T200126
CREATED:20190703T064731Z
LAST-MODIFIED:20190821T042541Z
UID:5850-1521446400-1521478800@usp.nus.edu.sg
SUMMARY:Alumni Sharing: Student Exchange Programme (SEP) to Yuanpei College\, Peking University
DESCRIPTION:Yuanpei College\, Peking University is one of USP’s long-standing Student Exchange Programme (SEP) partners. \nUSP alumna Bryna Singh / Sim (History + USP\, class of 2009)\, now a Correspondent at the Straits Times\, was the first USP student to pursue the exchange programme to Yuanpei College. \nBryna will return to USP to share her experiences from her year-long SEP and the session will provide valuable insights to students considering China as a potential place for study. Students interested in Yuanpei College\, Peking University\, as a potential SEP destination* are strongly encouraged to attend the session. \nBryna will be joined by full-time Yuanpei College students who are currently at USP on a semester-long exchange.
URL:https://usp.nus.edu.sg/event/alumni-sharing-student-exchange-programme-sep-to-yuanpei-college-peking-university/
LOCATION:Master’s Commons\, USP
CATEGORIES:General
END:VEVENT
BEGIN:VEVENT
DTSTART;TZID=UTC:20181030T190000
DTEND;TZID=UTC:20181030T210000
DTSTAMP:20260421T200126
CREATED:20190704T022620Z
LAST-MODIFIED:20190704T022620Z
UID:6019-1540926000-1540933200@usp.nus.edu.sg
SUMMARY:A Conversation on Migrant Labour in Singapore
DESCRIPTION:Join this conversation with USP faculty Dr Leung Wing Sze and two invited speakers – Mr Jevon Ng (a social worker with the Humanitarian Organisation for Migration Economics) and Mr Zakir Hossain Khokon (a construction supervisor and freelance journalist) – as they look at various issues of migrant labour in Singapore. Mr Zakir\, also the winner of the 2014 and 2015 Migrant Worker Poetry Contest in Singapore\, will read some of his poems during the session. Everyone in USP is invited.
URL:https://usp.nus.edu.sg/event/a-conversation-on-migrant-labour-in-singapore-2/
LOCATION:Master’s Commons\, USP
CATEGORIES:General
END:VEVENT
BEGIN:VEVENT
DTSTART;TZID=UTC:20190314T093000
DTEND;TZID=UTC:20190314T173000
DTSTAMP:20260421T200126
CREATED:20190704T090106Z
LAST-MODIFIED:20190704T090106Z
UID:6283-1552555800-1552584600@usp.nus.edu.sg
SUMMARY:“Discovering The Work You Love” Workshop
DESCRIPTION:Organised by USP Career Services\, the objective of this workshop is to help students discover their career inclinations and explore career options which are aligned with their self-concept.
URL:https://usp.nus.edu.sg/event/discovering-the-work-you-love-workshop/
LOCATION:Master’s Commons\, USP
CATEGORIES:General
END:VEVENT
BEGIN:VEVENT
DTSTART;TZID=UTC:20190325T190000
DTEND;TZID=UTC:20190325T203000
DTSTAMP:20260421T200126
CREATED:20190704T084555Z
LAST-MODIFIED:20190704T084555Z
UID:6262-1553540400-1553545800@usp.nus.edu.sg
SUMMARY:“Breaking News: The Remaking of Journalism and Why It Matters Now” by Mr Alan Rusbridger
DESCRIPTION:Mr Alan Rusbridger\, Principal of Lady Margaret Hall in the University of Oxford\, will be here with us to talk about his book titled “Breaking News” and share his experience working as the editor of The Guardian for twenty years. Come meet him and have a discussion!
URL:https://usp.nus.edu.sg/event/breaking-news-the-remaking-of-journalism-and-why-it-matters-now-by-mr-alan-rusbridger/
LOCATION:Master’s Commons\, USP
CATEGORIES:General
END:VEVENT
END:VCALENDAR