

BEGIN:VCALENDAR
VERSION:2.0
PRODID:-//University Scholars Programme - ECPv6.1.3//NONSGML v1.0//EN
CALSCALE:GREGORIAN
METHOD:PUBLISH
X-ORIGINAL-URL:https://usp.nus.edu.sg
X-WR-CALDESC:Events for University Scholars Programme
REFRESH-INTERVAL;VALUE=DURATION:PT1H
X-Robots-Tag:noindex
X-PUBLISHED-TTL:PT1H
BEGIN:VTIMEZONE
TZID:UTC
BEGIN:STANDARD
TZOFFSETFROM:+0000
TZOFFSETTO:+0000
TZNAME:UTC
DTSTART:20180101T000000
END:STANDARD
END:VTIMEZONE
BEGIN:VEVENT
DTSTART;VALUE=DATE:20180329
DTEND;VALUE=DATE:20180330
DTSTAMP:20260421T181116
CREATED:20190703T063841Z
LAST-MODIFIED:20190722T101004Z
UID:5822-1522281600-1522367999@usp.nus.edu.sg
SUMMARY:The Rector’s Programme: China’s Role in ASEAN and its Impact on Singapore’s Future
DESCRIPTION:In this session under The Rector’s Programme\, a small group of students will get to engage with Professor Tommy Koh to discuss on the issue of China’s Role in ASEAN and its Impact on Singapore’s Future. Prof Koh is the Chairman of the Centre for International Law\, Special Advisor of the Institute of Policy Studies and was Singapore’s Permanent Representative to the UN\, Ambassador to the US\, and Director of the Institute of Policy Studies.
URL:https://usp.nus.edu.sg/event/the-rectors-programme-chinas-role-in-asean-and-its-impact-on-singapores-future/
LOCATION:Master’s Commons\, USP
CATEGORIES:General
END:VEVENT
END:VCALENDAR