

BEGIN:VCALENDAR
VERSION:2.0
PRODID:-//University Scholars Programme - ECPv6.1.3//NONSGML v1.0//EN
CALSCALE:GREGORIAN
METHOD:PUBLISH
X-ORIGINAL-URL:https://usp.nus.edu.sg
X-WR-CALDESC:Events for University Scholars Programme
REFRESH-INTERVAL;VALUE=DURATION:PT1H
X-Robots-Tag:noindex
X-PUBLISHED-TTL:PT1H
BEGIN:VTIMEZONE
TZID:UTC
BEGIN:STANDARD
TZOFFSETFROM:+0000
TZOFFSETTO:+0000
TZNAME:UTC
DTSTART:20170101T000000
END:STANDARD
END:VTIMEZONE
BEGIN:VEVENT
DTSTART;TZID=UTC:20171003T183000
DTEND;TZID=UTC:20171003T200000
DTSTAMP:20260423T215259
CREATED:20190703T030420Z
LAST-MODIFIED:20190703T030429Z
UID:5701-1507055400-1507060800@usp.nus.edu.sg
SUMMARY:In Conversation with Filmmaker Tan Pin Pin
DESCRIPTION:Singapore’s acclaimed and well-known filmmaker Tan Pin Pin has been invited to visit USP and have a dialogue with our students. In this session\, she will discuss on art\, documentation\, history\, memory\, politics\, and why Inuka the polar bear often cameos in her works. This conversation will be hosted by A/P Lo Mun Hou. USP community is strongly encouraged to join this conversation with her.
URL:https://usp.nus.edu.sg/event/in-conversation-with-filmmaker-tan-pin-pin/
LOCATION:Master’s Commons\, USP
CATEGORIES:General
END:VEVENT
BEGIN:VEVENT
DTSTART;TZID=UTC:20180126T151500
DTEND;TZID=UTC:20180126T171500
DTSTAMP:20260423T215259
CREATED:20190703T033259Z
LAST-MODIFIED:20190703T033259Z
UID:5736-1516979700-1516986900@usp.nus.edu.sg
SUMMARY:USP Outreach – Visit by Innova Junior College Innova Scholars Programme Students
DESCRIPTION:
URL:https://usp.nus.edu.sg/event/usp-outreach-visit-by-innova-junior-college-innova-scholars-programme-students/
LOCATION:Master’s Commons\, USP
CATEGORIES:General
END:VEVENT
BEGIN:VEVENT
DTSTART;TZID=UTC:20180824T160000
DTEND;TZID=UTC:20180824T170000
DTSTAMP:20260423T215259
CREATED:20190703T085701Z
LAST-MODIFIED:20190703T085701Z
UID:5953-1535126400-1535130000@usp.nus.edu.sg
SUMMARY:Postgraduate Education Workshop
DESCRIPTION:In this interactive workshop\, we will discuss strategies for deciding if postgraduate education is right for you\, identifying the programmes that best suit your needs\, and crafting effective application materials. We will also consider how networking with faculty mentors\, potential supervisors\, and current postgraduate students can help you to prepare for this next stage in your education. Organised by USP Career Services\, this workshop is conducted by USP faculty Dr Bart Wassenhove.
URL:https://usp.nus.edu.sg/event/postgraduate-education-workshop/
LOCATION:Master’s Commons\, USP
CATEGORIES:General
END:VEVENT
END:VCALENDAR