

BEGIN:VCALENDAR
VERSION:2.0
PRODID:-//University Scholars Programme - ECPv6.1.3//NONSGML v1.0//EN
CALSCALE:GREGORIAN
METHOD:PUBLISH
X-WR-CALNAME:University Scholars Programme
X-ORIGINAL-URL:https://usp.nus.edu.sg
X-WR-CALDESC:Events for University Scholars Programme
REFRESH-INTERVAL;VALUE=DURATION:PT1H
X-Robots-Tag:noindex
X-PUBLISHED-TTL:PT1H
BEGIN:VTIMEZONE
TZID:UTC
BEGIN:STANDARD
TZOFFSETFROM:+0000
TZOFFSETTO:+0000
TZNAME:UTC
DTSTART:20170101T000000
END:STANDARD
END:VTIMEZONE
BEGIN:VEVENT
DTSTART;TZID=UTC:20170306T180000
DTEND;TZID=UTC:20170306T200000
DTSTAMP:20260423T160941
CREATED:20190702T053043Z
LAST-MODIFIED:20190821T064644Z
UID:5234-1488823200-1488830400@usp.nus.edu.sg
SUMMARY:Indian Poetry: Artistic and Thematic Constructions
DESCRIPTION:Assoc Professor Ashok Singh Rao\, Head Department of Arts\, CASH\, Mody University will be visiting USP as an Academic Visitor from 4 – 8 March 2017. He will be conducting two seminars during his visit. \nThe first seminar\, moderated by USP faculty Dr Mustafa Izzuddin\, is on Indian Poetry: Artistic and Thematic Constructions. Today\, there are a large number of educated Indians who use the English Language as a medium of creative exploration and expression of their experience of life. As a result. Indian writing has now developed into a substantial body of literature in its own right under a Poetic manifesto prepared in The Writers’ Workshop at Calcutta (Kolkata). Unlike British poetry\, Indian poetry has always stressed on the need for the private voice\, especially because we live in an age that tends so easily to demonstrations of mass approval and hysteria. The definition of poetry “it begins with delight and ends with wisdom” is an integral message on Indian poetry.
URL:https://usp.nus.edu.sg/event/indian-poetry-artistic-and-thematic-constructions/
LOCATION:Master’s Commons\, USP
CATEGORIES:General
END:VEVENT
BEGIN:VEVENT
DTSTART;VALUE=DATE:20180831
DTEND;VALUE=DATE:20180901
DTSTAMP:20260423T160941
CREATED:20190703T084749Z
LAST-MODIFIED:20190722T101456Z
UID:5938-1535673600-1535759999@usp.nus.edu.sg
SUMMARY:“Tell all the truth but tell it slant”: A Lyric Poetry and Nonfiction Writing Workshop
DESCRIPTION:Conducted by USP Creative Instructor Ms Koh Xin Tian\, the workshop focuses on written lyric poetry and creative nonfiction. In this beginner-level workshop\, participants will practice poetry as thoughtful craft\, awareness\, integrity\, revision and admiration. This class uses the workshop model\, which means working together as a community to strengthen each participant’s creative potential. All are welcome\, do join Xin Tian for this workshop!
URL:https://usp.nus.edu.sg/event/tell-all-the-truth-but-tell-it-slant-a-lyric-poetry-and-nonfiction-writing-workshop/
LOCATION:Master’s Commons\, USP
CATEGORIES:General
END:VEVENT
END:VCALENDAR