

BEGIN:VCALENDAR
VERSION:2.0
PRODID:-//University Scholars Programme - ECPv6.1.3//NONSGML v1.0//EN
CALSCALE:GREGORIAN
METHOD:PUBLISH
X-ORIGINAL-URL:https://usp.nus.edu.sg
X-WR-CALDESC:Events for University Scholars Programme
REFRESH-INTERVAL;VALUE=DURATION:PT1H
X-Robots-Tag:noindex
X-PUBLISHED-TTL:PT1H
BEGIN:VTIMEZONE
TZID:UTC
BEGIN:STANDARD
TZOFFSETFROM:+0000
TZOFFSETTO:+0000
TZNAME:UTC
DTSTART:20170101T000000
END:STANDARD
END:VTIMEZONE
BEGIN:VEVENT
DTSTART;TZID=UTC:20170209T153000
DTEND;TZID=UTC:20170209T173000
DTSTAMP:20260423T032813
CREATED:20190702T035136Z
LAST-MODIFIED:20190702T035136Z
UID:5166-1486654200-1486661400@usp.nus.edu.sg
SUMMARY:Postgraduate Presentation on World Class Study in London
DESCRIPTION:Four of the world’s leading universities (Imperial College London\, King’s College London\, SOAS University of London and University College London) will be giving a presentation on graduate study opportunities in London.  \nFollowing the presentation\, representatives will be happy to speak with students individually\, offering guidance and advice regarding their graduate study options.
URL:https://usp.nus.edu.sg/event/postgraduate-presentation-on-world-class-study-in-london/
LOCATION:Master’s Commons\, USP
CATEGORIES:General
END:VEVENT
BEGIN:VEVENT
DTSTART;TZID=UTC:20180118T140000
DTEND;TZID=UTC:20180118T170000
DTSTAMP:20260423T032813
CREATED:20190703T033858Z
LAST-MODIFIED:20190703T033858Z
UID:5754-1516284000-1516294800@usp.nus.edu.sg
SUMMARY:My Unique Resume Workshop
DESCRIPTION:
URL:https://usp.nus.edu.sg/event/my-unique-resume-workshop-3/
LOCATION:Master’s Commons\, USP
CATEGORIES:General
END:VEVENT
BEGIN:VEVENT
DTSTART;TZID=UTC:20180124T160000
DTEND;TZID=UTC:20180124T180000
DTSTAMP:20260423T032813
CREATED:20190703T033522Z
LAST-MODIFIED:20190703T033522Z
UID:5743-1516809600-1516816800@usp.nus.edu.sg
SUMMARY:USP Outreach – Visit by Meridian Junior College Talent Management Unit Students
DESCRIPTION:
URL:https://usp.nus.edu.sg/event/usp-outreach-visit-by-meridian-junior-college-talent-management-unit-students/
LOCATION:Master’s Commons\, USP
CATEGORIES:General
END:VEVENT
BEGIN:VEVENT
DTSTART;TZID=UTC:20190327T150000
DTEND;TZID=UTC:20190327T163000
DTSTAMP:20260423T032813
CREATED:20190704T081827Z
LAST-MODIFIED:20190819T075944Z
UID:6238-1553698800-1553704200@usp.nus.edu.sg
SUMMARY:USP Outreach – Visit by Hwa Chong Institution\, Kansai University Senior High School\, and Senior High School at Otsuka University of Tsukuba students
DESCRIPTION:
URL:https://usp.nus.edu.sg/event/usp-outreach-visit-by-hwa-chong-institution-kansai-university-senior-high-school-and-senior-high-school-at-otsuka-university-of-tsukuba-students-2/
LOCATION:Master’s Commons\, USP
CATEGORIES:Outreach
END:VEVENT
END:VCALENDAR