

BEGIN:VCALENDAR
VERSION:2.0
PRODID:-//University Scholars Programme - ECPv6.1.3//NONSGML v1.0//EN
CALSCALE:GREGORIAN
METHOD:PUBLISH
X-ORIGINAL-URL:https://usp.nus.edu.sg
X-WR-CALDESC:Events for University Scholars Programme
REFRESH-INTERVAL;VALUE=DURATION:PT1H
X-Robots-Tag:noindex
X-PUBLISHED-TTL:PT1H
BEGIN:VTIMEZONE
TZID:UTC
BEGIN:STANDARD
TZOFFSETFROM:+0000
TZOFFSETTO:+0000
TZNAME:UTC
DTSTART:20180101T000000
END:STANDARD
END:VTIMEZONE
BEGIN:VEVENT
DTSTART;TZID=UTC:20181108T153000
DTEND;TZID=UTC:20181108T190000
DTSTAMP:20260423T064645
CREATED:20190704T030353Z
LAST-MODIFIED:20190821T040648Z
UID:6088-1541691000-1541703600@usp.nus.edu.sg
SUMMARY:Unplug and Be An Angel (Pompom Crafting Session)
DESCRIPTION:Is there someone whom you would like to send some encouragement or good wishes to as the semester comes to an end? In this pompom crafting session\, you will get to make pompom using various techniques and tools. Come and join in the session\, and craft a personalised fluffy pompom. No registration required. \nFor more information or enquiry\, please contact USP Pastoral Care’s Rachel.
URL:https://usp.nus.edu.sg/event/unplug-and-be-an-angel-pompom-crafting-session/
LOCATION:Maker’s Studio\, USP
CATEGORIES:General
END:VEVENT
END:VCALENDAR