

BEGIN:VCALENDAR
VERSION:2.0
PRODID:-//University Scholars Programme - ECPv6.1.3//NONSGML v1.0//EN
CALSCALE:GREGORIAN
METHOD:PUBLISH
X-ORIGINAL-URL:https://usp.nus.edu.sg
X-WR-CALDESC:Events for University Scholars Programme
REFRESH-INTERVAL;VALUE=DURATION:PT1H
X-Robots-Tag:noindex
X-PUBLISHED-TTL:PT1H
BEGIN:VTIMEZONE
TZID:UTC
BEGIN:STANDARD
TZOFFSETFROM:+0000
TZOFFSETTO:+0000
TZNAME:UTC
DTSTART:20180101T000000
END:STANDARD
END:VTIMEZONE
BEGIN:VEVENT
DTSTART;TZID=UTC:20181107T160000
DTEND;TZID=UTC:20181107T190000
DTSTAMP:20260424T002924
CREATED:20190704T030623Z
LAST-MODIFIED:20190704T030623Z
UID:6103-1541606400-1541617200@usp.nus.edu.sg
SUMMARY:Welfare Pack Collection
DESCRIPTION:All USP students are welcome to collect a welfare pack on 7 or 8 Nov (different timings). Each welfare pack – given out before the exams in every semester – is filled with goodies kindly provided and sponsored by organisations that are sourced by NUSSU\, USC Finance Committee\, and the House Committee.
URL:https://usp.nus.edu.sg/event/welfare-pack-collection-2/
LOCATION:Lobby\, Cinnamon College (USP)
CATEGORIES:General
END:VEVENT
BEGIN:VEVENT
DTSTART;TZID=UTC:20181108T153000
DTEND;TZID=UTC:20181108T183000
DTSTAMP:20260424T002924
CREATED:20190704T030452Z
LAST-MODIFIED:20190704T030452Z
UID:6092-1541691000-1541701800@usp.nus.edu.sg
SUMMARY:Welfare Pack Collection
DESCRIPTION:All USP students are welcome to collect a welfare pack on 7 or 8 Nov (different timings). Each welfare pack – given out before the exams in every semester – is filled with goodies kindly provided and sponsored by organisations that are sourced by NUSSU\, USC Finance Committee\, and the House Committee.
URL:https://usp.nus.edu.sg/event/welfare-pack-collection/
LOCATION:Lobby\, Cinnamon College (USP)
CATEGORIES:General
END:VEVENT
END:VCALENDAR