

BEGIN:VCALENDAR
VERSION:2.0
PRODID:-//University Scholars Programme - ECPv6.1.3//NONSGML v1.0//EN
CALSCALE:GREGORIAN
METHOD:PUBLISH
X-ORIGINAL-URL:https://usp.nus.edu.sg
X-WR-CALDESC:Events for University Scholars Programme
REFRESH-INTERVAL;VALUE=DURATION:PT1H
X-Robots-Tag:noindex
X-PUBLISHED-TTL:PT1H
BEGIN:VTIMEZONE
TZID:UTC
BEGIN:STANDARD
TZOFFSETFROM:+0000
TZOFFSETTO:+0000
TZNAME:UTC
DTSTART:20180101T000000
END:STANDARD
END:VTIMEZONE
BEGIN:VEVENT
DTSTART;VALUE=DATE:20180222
DTEND;VALUE=DATE:20180303
DTSTAMP:20260420T210039
CREATED:20190703T035110Z
LAST-MODIFIED:20190703T035110Z
UID:5776-1519257600-1520035199@usp.nus.edu.sg
SUMMARY:Global Next Leaders Forum
DESCRIPTION:Three USP students will travel to Tokyo to participate in the Global Next Leaders Forum. The student-led conference was initiated in 2010 by students from the University of Tokyo and aims to build international networks\, create platforms for students from around the world to exchange ideas and develop leaders who tackle global issues. The 2018 conference will focus on the topic of “Gender”.
URL:https://usp.nus.edu.sg/event/global-next-leaders-forum/
LOCATION:Japan
CATEGORIES:General
END:VEVENT
BEGIN:VEVENT
DTSTART;VALUE=DATE:20190222
DTEND;VALUE=DATE:20190303
DTSTAMP:20260420T210039
CREATED:20190704T065851Z
LAST-MODIFIED:20190704T065851Z
UID:6174-1550793600-1551571199@usp.nus.edu.sg
SUMMARY:Intersection of Tradition and Technology: Japan
DESCRIPTION:This is a new USP International Programme organised and initiated by USP students. Twelve USP students travel to Japan for this interdisciplinary programme that aims to explore the cross-sections of both the traditions and modern technologies in different fields. Japan as a country is at this very intersection\, a country that is steeped in its own traditions and cultures\, yet still constantly on the forefront of modern technological breakthroughs and advancements. \nThe programme will bring students through Nagoya and Tokyo\, as well as more rural areas such as Suzaka and Kiso Valley.
URL:https://usp.nus.edu.sg/event/intersection-of-tradition-and-technology-japan/
LOCATION:Japan
CATEGORIES:General
END:VEVENT
END:VCALENDAR