

BEGIN:VCALENDAR
VERSION:2.0
PRODID:-//University Scholars Programme - ECPv6.1.3//NONSGML v1.0//EN
CALSCALE:GREGORIAN
METHOD:PUBLISH
X-ORIGINAL-URL:https://usp.nus.edu.sg
X-WR-CALDESC:Events for University Scholars Programme
REFRESH-INTERVAL;VALUE=DURATION:PT1H
X-Robots-Tag:noindex
X-PUBLISHED-TTL:PT1H
BEGIN:VTIMEZONE
TZID:UTC
BEGIN:STANDARD
TZOFFSETFROM:+0000
TZOFFSETTO:+0000
TZNAME:UTC
DTSTART:20170101T000000
END:STANDARD
END:VTIMEZONE
BEGIN:VEVENT
DTSTART;TZID=UTC:20170714T155500
DTEND;TZID=UTC:20170714T170000
DTSTAMP:20260424T035336
CREATED:20190702T083040Z
LAST-MODIFIED:20190702T083040Z
UID:5491-1500047700-1500051600@usp.nus.edu.sg
SUMMARY:USP Outreach – NUS Talent Management Outreach (Top JC/IB Students)
DESCRIPTION:
URL:https://usp.nus.edu.sg/event/usp-outreach-nus-talent-management-outreach-top-jc-ib-students-3/
LOCATION:Foyer\, Education Resource Centre\, UTown
CATEGORIES:General
END:VEVENT
BEGIN:VEVENT
DTSTART;TZID=UTC:20170719T155500
DTEND;TZID=UTC:20170719T170000
DTSTAMP:20260424T035336
CREATED:20190702T082605Z
LAST-MODIFIED:20190702T082605Z
UID:5487-1500479700-1500483600@usp.nus.edu.sg
SUMMARY:USP Outreach – NUS Talent Management Outreach (Top JC/IB Students)
DESCRIPTION:
URL:https://usp.nus.edu.sg/event/usp-outreach-nus-talent-management-outreach-top-jc-ib-students-2/
LOCATION:Foyer\, Education Resource Centre\, UTown
CATEGORIES:General
END:VEVENT
BEGIN:VEVENT
DTSTART;TZID=UTC:20170721T155500
DTEND;TZID=UTC:20170721T170000
DTSTAMP:20260424T035336
CREATED:20190702T082530Z
LAST-MODIFIED:20190702T082530Z
UID:5484-1500652500-1500656400@usp.nus.edu.sg
SUMMARY:USP Outreach – NUS Talent Management Outreach (Top JC/IB Students)
DESCRIPTION:
URL:https://usp.nus.edu.sg/event/usp-outreach-nus-talent-management-outreach-top-jc-ib-students/
LOCATION:Foyer\, Education Resource Centre\, UTown
CATEGORIES:General
END:VEVENT
END:VCALENDAR