

BEGIN:VCALENDAR
VERSION:2.0
PRODID:-//University Scholars Programme - ECPv6.1.3//NONSGML v1.0//EN
CALSCALE:GREGORIAN
METHOD:PUBLISH
X-WR-CALNAME:University Scholars Programme
X-ORIGINAL-URL:https://usp.nus.edu.sg
X-WR-CALDESC:Events for University Scholars Programme
REFRESH-INTERVAL;VALUE=DURATION:PT1H
X-Robots-Tag:noindex
X-PUBLISHED-TTL:PT1H
BEGIN:VTIMEZONE
TZID:UTC
BEGIN:STANDARD
TZOFFSETFROM:+0000
TZOFFSETTO:+0000
TZNAME:UTC
DTSTART:20160101T000000
END:STANDARD
END:VTIMEZONE
BEGIN:VEVENT
DTSTART;VALUE=DATE:20160122
DTEND;VALUE=DATE:20160123
DTSTAMP:20260422T215033
CREATED:20190715T034431Z
LAST-MODIFIED:20190722T084621Z
UID:10291-1453420800-1453507199@usp.nus.edu.sg
SUMMARY:USProductions 2016: Less Than Three & 404 Not Found
DESCRIPTION:USProductions by USP students proudly presents a double bill “404: Not Found” and “Less Than Three. Issues surrounding identity and social media take center stage in both plays – “404 Not Found” takes on a more solemn insight to the concept of self in social media while “Less Than Three” presents a light-hearted comedy between two individuals. \nFor more details\, please visit USProductions event page.
URL:https://usp.nus.edu.sg/event/usproductions-2016-less-than-three-404-not-found/2016-01-22/
LOCATION:Drama Centre Black Box\, National Library Board
CATEGORIES:General
END:VEVENT
BEGIN:VEVENT
DTSTART;VALUE=DATE:20170929
DTEND;VALUE=DATE:20170930
DTSTAMP:20260422T215033
CREATED:20190702T090758Z
LAST-MODIFIED:20190821T063353Z
UID:5582-1506643200-1506729599@usp.nus.edu.sg
SUMMARY:USP Productions 2017 - Frank
DESCRIPTION:What happens when a monster appears on the streets of Singapore? Will people panic? Will people run away? Will people stand together and fight the monster?\nAnd what happens when the streets of Singapore stand firm against this monster that they see? Will the monster run away? Will the monster die at the hands of the people? Or will the monster find a way to fit in? \nUSP Productions by USP students proudly presents “FRANK”. FRANK is a modern day parable\, giving a Singaporean spin to the Gothic horror classic Frankenstein. Amidst the hot-button issues of immigrants and race today\, the play explores how our very own Singaporean society relates and treats the “Other”\, as shaped by prejudices and misconceptions that get propagated through the institutions of media and society. \nFor more information about the plays and USP Productions\, click HERE.
URL:https://usp.nus.edu.sg/event/usp-productions-2017-frank-2/
LOCATION:Drama Centre Black Box\, National Library Board
CATEGORIES:General
END:VEVENT
BEGIN:VEVENT
DTSTART;VALUE=DATE:20171001
DTEND;VALUE=DATE:20171002
DTSTAMP:20260422T215033
CREATED:20190703T030512Z
LAST-MODIFIED:20190821T063314Z
UID:5704-1506816000-1506902399@usp.nus.edu.sg
SUMMARY:USP Productions 2017 - Frank
DESCRIPTION:What happens when a monster appears on the streets of Singapore? Will people panic? Will people run away? Will people stand together and fight the monster?\nAnd what happens when the streets of Singapore stand firm against this monster that they see? Will the monster run away? Will the monster die at the hands of the people? Or will the monster find a way to fit in? \nUSP Productions by USP students proudly presents “FRANK”. FRANK is a modern day parable\, giving a Singaporean spin to the Gothic horror classic Frankenstein. Amidst the hot-button issues of immigrants and race today\, the play explores how our very own Singaporean society relates and treats the “Other”\, as shaped by prejudices and misconceptions that get propagated through the institutions of media and society. \nFor more information about the plays and USP Productions\, click HERE.
URL:https://usp.nus.edu.sg/event/usp-productions-2017-frank-3/
LOCATION:Drama Centre Black Box\, National Library Board
CATEGORIES:General
END:VEVENT
BEGIN:VEVENT
DTSTART;VALUE=DATE:20180202
DTEND;VALUE=DATE:20180205
DTSTAMP:20260422T215033
CREATED:20190703T063532Z
LAST-MODIFIED:20190821T042804Z
UID:5813-1517529600-1517788799@usp.nus.edu.sg
SUMMARY:USP Productions: The Dark Web
DESCRIPTION:Show time:\n• 2 February (Friday) and 3 February (Saturday)\, evening show @ 8pm\n• 4 February (Sunday)\, matinee @ 3pm \nThe Dark Web plays host to the worst of human depravity and the best of its dreams\, shielded from real life by the screen of anonymity. But the veil only goes one way: you don’t know them\, but they know you. Watch as one unsuspecting family finds their lives thrown into disarray by the insidious machinations of those behind the veil. \nThe Dark Web is a play that examines the culture and implications surrounding the part of the internet known as the ‘dark web’\, where users and their activities are concealed behind layers of anonymity and encryption\, and content ranges from the innocuous and noble to the depraved and frightening. At its core\, however\, the play is centred around its characters and their stories\, serving as a thought-provoking exploration of the human condition. \nContent Warning – This play contains mature and potentially disturbing themes. Viewer discretion is advised. Please click here for more information. \nBlack Box\, National Library Board
URL:https://usp.nus.edu.sg/event/usp-productions-the-dark-web/
LOCATION:Drama Centre Black Box\, National Library Board
CATEGORIES:General
END:VEVENT
BEGIN:VEVENT
DTSTART;TZID=UTC:20190125T200000
DTEND;TZID=UTC:20190125T220000
DTSTAMP:20260422T215033
CREATED:20190704T062637Z
LAST-MODIFIED:20190821T040431Z
UID:6154-1548446400-1548453600@usp.nus.edu.sg
SUMMARY:USProductions: Sixty-One
DESCRIPTION:Show time:\n• 25 January (Friday) and 26 January (Saturday)\, evening show @ 8pm-10pm\n• 27 January (Sunday)\, matinee @ 3pm-5pm \nAn android hospitalises a man. Meanwhile\, it’s business as usual for 061’s human co-workers\, who are less concerned about the incident than making sure it doesn’t affect their salary. Of course there’s also the detective whom everyone wishes wouldn’t do her job so thoroughly\, and the daughter who doesn’t care that androids are “evil” now. But at the end of the day\, it’s definitely the robot’s fault\, right? \nFor ticketing details\, click HERE. To know more about the play\, read this article. \nDrama Centre Black Box\, National Library Board
URL:https://usp.nus.edu.sg/event/usproductions-sixty-one-3/
LOCATION:Drama Centre Black Box\, National Library Board
CATEGORIES:General
END:VEVENT
BEGIN:VEVENT
DTSTART;TZID=UTC:20190126T200000
DTEND;TZID=UTC:20190126T220000
DTSTAMP:20260422T215033
CREATED:20190704T062546Z
LAST-MODIFIED:20190821T040354Z
UID:6152-1548532800-1548540000@usp.nus.edu.sg
SUMMARY:USProductions: Sixty-One
DESCRIPTION:Show time:\n• 25 January (Friday) and 26 January (Saturday)\, evening show @ 8pm-10pm\n• 27 January (Sunday)\, matinee @ 3pm-5pm \nAn android hospitalises a man. Meanwhile\, it’s business as usual for 061’s human co-workers\, who are less concerned about the incident than making sure it doesn’t affect their salary. Of course there’s also the detective whom everyone wishes wouldn’t do her job so thoroughly\, and the daughter who doesn’t care that androids are “evil” now. But at the end of the day\, it’s definitely the robot’s fault\, right? \nFor ticketing details\, click HERE. To know more about the play\, read this article. 
URL:https://usp.nus.edu.sg/event/usproductions-sixty-one-2/
LOCATION:Drama Centre Black Box\, National Library Board
CATEGORIES:General
END:VEVENT
BEGIN:VEVENT
DTSTART;TZID=UTC:20190127T150000
DTEND;TZID=UTC:20190127T170000
DTSTAMP:20260422T215033
CREATED:20190704T062506Z
LAST-MODIFIED:20190821T040330Z
UID:6150-1548601200-1548608400@usp.nus.edu.sg
SUMMARY:USProductions: Sixty-One
DESCRIPTION:Show time:\n• 25 January (Friday) and 26 January (Saturday)\, evening show @ 8pm-10pm\n• 27 January (Sunday)\, matinee @ 3pm-5pm \nAn android hospitalises a man. Meanwhile\, it’s business as usual for 061’s human co-workers\, who are less concerned about the incident than making sure it doesn’t affect their salary. Of course there’s also the detective whom everyone wishes wouldn’t do her job so thoroughly\, and the daughter who doesn’t care that androids are “evil” now. But at the end of the day\, it’s definitely the robot’s fault\, right? \nFor ticketing details\, click HERE. To know more about the play\, read this article. 
URL:https://usp.nus.edu.sg/event/usproductions-sixty-one/
LOCATION:Drama Centre Black Box\, National Library Board
CATEGORIES:General
END:VEVENT
BEGIN:VEVENT
DTSTART;TZID=UTC:20200118T200000
DTEND;TZID=UTC:20200118T220000
DTSTAMP:20260422T215033
CREATED:20200106T091431Z
LAST-MODIFIED:20200210T022821Z
UID:14901-1579377600-1579384800@usp.nus.edu.sg
SUMMARY:USP Productions 2020: Head in the Cloud
DESCRIPTION:USP Productions 2020 by USP students is proud to present “Head in the Cloud”. \nShow time:\n• 17 January (Friday) and 18 January (Saturday)\, evening show @ 8pm\n• 19 January (Sunday)\, matinee @ 3pm \nVenue: NLB Drama Centre Black Box\, #03-01 National Library Building\, 100 Victoria St\, Singapore 188064 \nGet your tickets at tinyurl.com/usprodticketsales. \nProduction Synopsis\nSet against omnipresent and round-the-clock surveillance\, embark on a young boy’s journey as he navigates his way through a post-truth world to find love\, and the unravelling of secrets that might break his family apart.
URL:https://usp.nus.edu.sg/event/usp-productions-2020-head-in-the-cloud/
LOCATION:Drama Centre Black Box\, National Library Board
CATEGORIES:Student Life
END:VEVENT
BEGIN:VEVENT
DTSTART;TZID=UTC:20200119T150000
DTEND;TZID=UTC:20200119T170000
DTSTAMP:20260422T215033
CREATED:20200106T091949Z
LAST-MODIFIED:20200130T071252Z
UID:14909-1579446000-1579453200@usp.nus.edu.sg
SUMMARY:USP Productions 2020: Head in the Cloud
DESCRIPTION:USP Productions 2020 by USP students is proud to present “Head in the Cloud”. \nShow time:\n• 17 January (Friday) and 18 January (Saturday)\, evening show @ 8pm\n• 19 January (Sunday)\, matinee @ 3pm \nVenue: NLB Drama Centre Black Box\, #03-01 National Library Building\, 100 Victoria St\, Singapore 188064 \nGet your tickets at tinyurl.com/usprodticketsales. \nProduction Synopsis\nSet against omnipresent and round-the-clock surveillance\, embark on a young boy’s journey as he navigates his way through a post-truth world to find love\, and the unravelling of secrets that might break his family apart.
URL:https://usp.nus.edu.sg/event/usp-productions-2020-head-in-the-cloud-2/
LOCATION:Drama Centre Black Box\, National Library Board
CATEGORIES:Student Life
END:VEVENT
END:VCALENDAR