

BEGIN:VCALENDAR
VERSION:2.0
PRODID:-//University Scholars Programme - ECPv6.1.3//NONSGML v1.0//EN
CALSCALE:GREGORIAN
METHOD:PUBLISH
X-ORIGINAL-URL:https://usp.nus.edu.sg
X-WR-CALDESC:Events for University Scholars Programme
REFRESH-INTERVAL;VALUE=DURATION:PT1H
X-Robots-Tag:noindex
X-PUBLISHED-TTL:PT1H
BEGIN:VTIMEZONE
TZID:UTC
BEGIN:STANDARD
TZOFFSETFROM:+0000
TZOFFSETTO:+0000
TZNAME:UTC
DTSTART:20170101T000000
END:STANDARD
END:VTIMEZONE
BEGIN:VEVENT
DTSTART;TZID=UTC:20170211T090000
DTEND;TZID=UTC:20170211T130000
DTSTAMP:20260413T052536
CREATED:20190702T032916Z
LAST-MODIFIED:20190702T032916Z
UID:5156-1486803600-1486818000@usp.nus.edu.sg
SUMMARY:Emotional Intelligence @ Work
DESCRIPTION:USP Career Services introduces a new workshop called “Emotional Intelligence @ Work” for USP students. This workshop will help students to create self-awareness on emotional intelligence and understand its importance in working life\, to gain keys to improve emotional intelligence (and empathy) to have a balance of IQ and EQ for career-readiness\, and to understand the contextual difference between socialisation in USP and the working world.
URL:https://usp.nus.edu.sg/event/emotional-intelligence-work/
LOCATION:Devan Nair Institute
CATEGORIES:General
END:VEVENT
END:VCALENDAR