

BEGIN:VCALENDAR
VERSION:2.0
PRODID:-//University Scholars Programme - ECPv6.1.3//NONSGML v1.0//EN
CALSCALE:GREGORIAN
METHOD:PUBLISH
X-WR-CALNAME:University Scholars Programme
X-ORIGINAL-URL:https://usp.nus.edu.sg
X-WR-CALDESC:Events for University Scholars Programme
REFRESH-INTERVAL;VALUE=DURATION:PT1H
X-Robots-Tag:noindex
X-PUBLISHED-TTL:PT1H
BEGIN:VTIMEZONE
TZID:UTC
BEGIN:STANDARD
TZOFFSETFROM:+0000
TZOFFSETTO:+0000
TZNAME:UTC
DTSTART:20180101T000000
END:STANDARD
END:VTIMEZONE
BEGIN:VEVENT
DTSTART;TZID=UTC:20181009T180000
DTEND;TZID=UTC:20181009T200000
DTSTAMP:20260421T212417
CREATED:20190704T024648Z
LAST-MODIFIED:20190821T040939Z
UID:6055-1539108000-1539115200@usp.nus.edu.sg
SUMMARY:Conversations in the Dark
DESCRIPTION:As part of this week’s Mental Health week\, NUS Mental Health Wing\, a student-led initiative\, is organising a night of open conversations and heartfelt sharing about students’ stressors\, worries and hopes over desserts in an informal candid setting. \nThis event is supported by USP and NUS Chua Thian Poh Community Leadership Centre.
URL:https://usp.nus.edu.sg/event/conversations-in-the-dark/
LOCATION:Dance Atelier 2\, Level 3\, Stephen Riady Centre
CATEGORIES:General
END:VEVENT
END:VCALENDAR