

BEGIN:VCALENDAR
VERSION:2.0
PRODID:-//University Scholars Programme - ECPv6.1.3//NONSGML v1.0//EN
CALSCALE:GREGORIAN
METHOD:PUBLISH
X-ORIGINAL-URL:https://usp.nus.edu.sg
X-WR-CALDESC:Events for University Scholars Programme
REFRESH-INTERVAL;VALUE=DURATION:PT1H
X-Robots-Tag:noindex
X-PUBLISHED-TTL:PT1H
BEGIN:VTIMEZONE
TZID:UTC
BEGIN:STANDARD
TZOFFSETFROM:+0000
TZOFFSETTO:+0000
TZNAME:UTC
DTSTART:20180101T000000
END:STANDARD
END:VTIMEZONE
BEGIN:VEVENT
DTSTART;TZID=UTC:20181013T110000
DTEND;TZID=UTC:20181013T120000
DTSTAMP:20260420T202035
CREATED:20190704T024352Z
LAST-MODIFIED:20190704T024352Z
UID:6048-1539428400-1539432000@usp.nus.edu.sg
SUMMARY:USP Outreach @ Victoria Junior College Panel Discussion on University Admission
DESCRIPTION:
URL:https://usp.nus.edu.sg/event/usp-outreach-victoria-junior-college-panel-discussion-on-university-admission/
LOCATION:Concourse\, Victoria Junior College
CATEGORIES:General
END:VEVENT
BEGIN:VEVENT
DTSTART;TZID=UTC:20191019T110000
DTEND;TZID=UTC:20191019T130000
DTSTAMP:20260420T202035
CREATED:20191007T073341Z
LAST-MODIFIED:20191007T073341Z
UID:14372-1571482800-1571490000@usp.nus.edu.sg
SUMMARY:USP Outreach @ Victoria Junior College Panel Discussion on University Admission
DESCRIPTION:
URL:https://usp.nus.edu.sg/event/usp-outreach-victoria-junior-college-panel-discussion-on-university-admission-2/
LOCATION:Concourse\, Victoria Junior College
CATEGORIES:Outreach
END:VEVENT
END:VCALENDAR