

BEGIN:VCALENDAR
VERSION:2.0
PRODID:-//University Scholars Programme - ECPv6.1.3//NONSGML v1.0//EN
CALSCALE:GREGORIAN
METHOD:PUBLISH
X-WR-CALNAME:University Scholars Programme
X-ORIGINAL-URL:https://usp.nus.edu.sg
X-WR-CALDESC:Events for University Scholars Programme
REFRESH-INTERVAL;VALUE=DURATION:PT1H
X-Robots-Tag:noindex
X-PUBLISHED-TTL:PT1H
BEGIN:VTIMEZONE
TZID:UTC
BEGIN:STANDARD
TZOFFSETFROM:+0000
TZOFFSETTO:+0000
TZNAME:UTC
DTSTART:20160101T000000
END:STANDARD
END:VTIMEZONE
BEGIN:VEVENT
DTSTART;TZID=UTC:20160716T190000
DTEND;TZID=UTC:20160716T220000
DTSTAMP:20260426T025225
CREATED:20190628T070405Z
LAST-MODIFIED:20190821T072219Z
UID:4243-1468695600-1468706400@usp.nus.edu.sg
SUMMARY:USP Commencement Dinner 2016
DESCRIPTION:A USP tradition\, we will celebrate the commencement and achievements of the Class of 2016. The theme adopted by the USP Commencement Dinner 2016 Committee is “All That Sparkle”.
URL:https://usp.nus.edu.sg/event/usp-commencement-dinner-2016/
LOCATION:Ballroom 1\, Hilton Hotel
CATEGORIES:General
END:VEVENT
END:VCALENDAR