

BEGIN:VCALENDAR
VERSION:2.0
PRODID:-//University Scholars Programme - ECPv6.1.3//NONSGML v1.0//EN
CALSCALE:GREGORIAN
METHOD:PUBLISH
X-ORIGINAL-URL:https://usp.nus.edu.sg
X-WR-CALDESC:Events for University Scholars Programme
REFRESH-INTERVAL;VALUE=DURATION:PT1H
X-Robots-Tag:noindex
X-PUBLISHED-TTL:PT1H
BEGIN:VTIMEZONE
TZID:UTC
BEGIN:STANDARD
TZOFFSETFROM:+0000
TZOFFSETTO:+0000
TZNAME:UTC
DTSTART:20180101T000000
END:STANDARD
END:VTIMEZONE
BEGIN:VEVENT
DTSTART;TZID=UTC:20181113T093000
DTEND;TZID=UTC:20181113T101500
DTSTAMP:20260424T145139
CREATED:20190704T030142Z
LAST-MODIFIED:20190821T040625Z
UID:6082-1542101400-1542104100@usp.nus.edu.sg
SUMMARY:Unplug and Wiggle Butts (Dog Walking and Interaction Session)
DESCRIPTION:This is an initiative to collaborate with residents at Medway Park (just right next to UTown) to walk their dogs into our campus and interact with the dogs closely. Each interaction session will last about 45mins at the Chua Thian Poh Hall or around the USP amphitheatre. The dog walking session will commence 30mins prior and immediately after the interaction session. This will take place on every Tuesday and Thursday in Week 13 and Reading Week\, subject to weather condition. \nInterested students\, please contact USP Pastoral Care’s Rachel.
URL:https://usp.nus.edu.sg/event/unplug-and-wiggle-butts-dog-walking-and-interaction-session-4/
LOCATION:Around USP
CATEGORIES:General
END:VEVENT
BEGIN:VEVENT
DTSTART;TZID=UTC:20181115T180000
DTEND;TZID=UTC:20181115T184500
DTSTAMP:20260424T145139
CREATED:20190704T025620Z
LAST-MODIFIED:20190821T040621Z
UID:6080-1542304800-1542307500@usp.nus.edu.sg
SUMMARY:Unplug and Wiggle Butts (Dog Walking and Interaction Session)
DESCRIPTION:This is an initiative to collaborate with residents at Medway Park (just right next to UTown) to walk their dogs into our campus and interact with the dogs closely. Each interaction session will last about 45mins at the Chua Thian Poh Hall or around the USP amphitheatre. The dog walking session will commence 30mins prior and immediately after the interaction session. This will take place on every Tuesday and Thursday in Week 13 and Reading Week\, subject to weather condition. \nInterested students\, please contact USP Pastoral Care’s Rachel.
URL:https://usp.nus.edu.sg/event/unplug-and-wiggle-butts-dog-walking-and-interaction-session-3/
LOCATION:Around USP
CATEGORIES:General
END:VEVENT
BEGIN:VEVENT
DTSTART;TZID=UTC:20181120T093000
DTEND;TZID=UTC:20181120T101500
DTSTAMP:20260424T145139
CREATED:20190704T025511Z
LAST-MODIFIED:20190821T040617Z
UID:6072-1542706200-1542708900@usp.nus.edu.sg
SUMMARY:Unplug and Wiggle Butts (Dog Walking and Interaction Session)
DESCRIPTION:This is an initiative to collaborate with residents at Medway Park (just right next to UTown) to walk their dogs into our campus and interact with the dogs closely. Each interaction session will last about 45mins at the Chua Thian Poh Hall or around the USP amphitheatre. The dog walking session will commence 30mins prior and immediately after the interaction session. This will take place on every Tuesday and Thursday in Week 13 and Reading Week\, subject to weather condition. \nInterested students\, please contact USP Pastoral Care’s Rachel.
URL:https://usp.nus.edu.sg/event/unplug-and-wiggle-butts-dog-walking-and-interaction-session-2/
LOCATION:Around USP
CATEGORIES:General
END:VEVENT
BEGIN:VEVENT
DTSTART;TZID=UTC:20181122T180000
DTEND;TZID=UTC:20181122T184500
DTSTAMP:20260424T145139
CREATED:20190704T025333Z
LAST-MODIFIED:20190821T040614Z
UID:6069-1542909600-1542912300@usp.nus.edu.sg
SUMMARY:Unplug and Wiggle Butts (Dog Walking and Interaction Session)
DESCRIPTION:This is an initiative to collaborate with residents at Medway Park (just right next to UTown) to walk their dogs into our campus and interact with the dogs closely. Each interaction session will last about 45mins at the Chua Thian Poh Hall or around the USP amphitheatre. The dog walking session will commence 30mins prior and immediately after the interaction session. This will take place on every Tuesday and Thursday in Week 13 and Reading Week\, subject to weather condition. \nInterested students\, please contact USP Pastoral Care’s Rachel.
URL:https://usp.nus.edu.sg/event/unplug-and-wiggle-butts-dog-walking-and-interaction-session/
LOCATION:Around USP
CATEGORIES:General
END:VEVENT
BEGIN:VEVENT
DTSTART;TZID=UTC:20190817T130000
DTEND;TZID=UTC:20190817T170000
DTSTAMP:20260424T145139
CREATED:20190819T030816Z
LAST-MODIFIED:20190819T030816Z
UID:13287-1566046800-1566061200@usp.nus.edu.sg
SUMMARY:USP Homecoming 2019
DESCRIPTION:Held in conjunction with the NUS Kent Ridge Alumni Family Day\, the USP Homecoming promises to be an afternoon for USP alumni to meet up with professors and old friends\, to reminisce the good old days and to reconnect.
URL:https://usp.nus.edu.sg/event/usp-homecoming-2019/
LOCATION:Around USP
CATEGORIES:General
END:VEVENT
BEGIN:VEVENT
DTSTART;VALUE=DATE:20200113
DTEND;VALUE=DATE:20200118
DTSTAMP:20260424T145139
CREATED:20200115T024657Z
LAST-MODIFIED:20200130T071404Z
UID:15000-1578873600-1579305599@usp.nus.edu.sg
SUMMARY:Comics Appreciation Week 2020
DESCRIPTION:There is a range of activities planned out for you during USP’s Comics Appreciation Week. Here is the schedule: \n13 Jan\, Mon: Browse and Borrow Bazaar\n14 Jan\, Tue: Comic-con(versation)\n15 Jan\, Wed: Marvel Movie Night\n16 Jan: Thu: Movie Night + Marvel vs DC Discussion\n17 Jan\, Fri: Character Creation Workshop
URL:https://usp.nus.edu.sg/event/comics-appreciation-week-2020/
LOCATION:Around USP
CATEGORIES:Student Life
END:VEVENT
BEGIN:VEVENT
DTSTART;VALUE=DATE:20200203
DTEND;VALUE=DATE:20200215
DTSTAMP:20260424T145139
CREATED:20200130T072600Z
LAST-MODIFIED:20200224T102600Z
UID:15123-1580688000-1581724799@usp.nus.edu.sg
SUMMARY:Art Fort 2020
DESCRIPTION:Organised by various interest groups and talented individuals in USP\, Art Fort 2020 has a range of interesting activities – from participating in a kokedama workshop to having a conversation with Managing Director of Singapore Repertory Theatre (SRT)\, Charlotte Nors to chatting with local comic artist\, Rachel Pang to listening to live author readings of literary works.
URL:https://usp.nus.edu.sg/event/art-fort-2020/
LOCATION:Around USP
CATEGORIES:Student Life
END:VEVENT
END:VCALENDAR