

BEGIN:VCALENDAR
VERSION:2.0
PRODID:-//University Scholars Programme - ECPv6.1.3//NONSGML v1.0//EN
CALSCALE:GREGORIAN
METHOD:PUBLISH
X-WR-CALNAME:University Scholars Programme
X-ORIGINAL-URL:https://usp.nus.edu.sg
X-WR-CALDESC:Events for University Scholars Programme
REFRESH-INTERVAL;VALUE=DURATION:PT1H
X-Robots-Tag:noindex
X-PUBLISHED-TTL:PT1H
BEGIN:VTIMEZONE
TZID:UTC
BEGIN:STANDARD
TZOFFSETFROM:+0000
TZOFFSETTO:+0000
TZNAME:UTC
DTSTART:20200101T000000
END:STANDARD
END:VTIMEZONE
BEGIN:VEVENT
DTSTART;TZID=UTC:20200715T123000
DTEND;TZID=UTC:20200715T133000
DTSTAMP:20260422T021935
CREATED:20200703T015837Z
LAST-MODIFIED:20200703T015837Z
UID:15755-1594816200-1594819800@usp.nus.edu.sg
SUMMARY:USP Outreach @ Hwa Chong Institution Scholarship Day
DESCRIPTION:
URL:https://usp.nus.edu.sg/event/usp-outreach-hwa-chong-institution-scholarship-day-3/
LOCATION:Online: via Zoom
CATEGORIES:Outreach
END:VEVENT
BEGIN:VEVENT
DTSTART;TZID=UTC:20200715T150000
DTEND;TZID=UTC:20200715T170000
DTSTAMP:20260422T021935
CREATED:20200703T020039Z
LAST-MODIFIED:20200703T020039Z
UID:15757-1594825200-1594832400@usp.nus.edu.sg
SUMMARY:USP Outreach @ NUS Office of Admissions Talent Management Outreach
DESCRIPTION:
URL:https://usp.nus.edu.sg/event/usp-outreach-nus-office-of-admissions-talent-management-outreach/
LOCATION:Online: via Zoom
CATEGORIES:Outreach
END:VEVENT
END:VCALENDAR