

BEGIN:VCALENDAR
VERSION:2.0
PRODID:-//University Scholars Programme - ECPv6.1.3//NONSGML v1.0//EN
CALSCALE:GREGORIAN
METHOD:PUBLISH
X-WR-CALNAME:University Scholars Programme
X-ORIGINAL-URL:https://usp.nus.edu.sg
X-WR-CALDESC:Events for University Scholars Programme
REFRESH-INTERVAL;VALUE=DURATION:PT1H
X-Robots-Tag:noindex
X-PUBLISHED-TTL:PT1H
BEGIN:VTIMEZONE
TZID:UTC
BEGIN:STANDARD
TZOFFSETFROM:+0000
TZOFFSETTO:+0000
TZNAME:UTC
DTSTART:20200101T000000
END:STANDARD
END:VTIMEZONE
BEGIN:VEVENT
DTSTART;TZID=UTC:20200118T090000
DTEND;TZID=UTC:20200118T120000
DTSTAMP:20260425T182104
CREATED:20200115T025358Z
LAST-MODIFIED:20200115T025358Z
UID:15011-1579338000-1579348800@usp.nus.edu.sg
SUMMARY:USP Outreach @ St Andrew’s Junior College Forum for Parents
DESCRIPTION:
URL:https://usp.nus.edu.sg/event/usp-outreach-st-andrews-junior-college-forum-for-parents/
LOCATION:Outside Cultural Centre\, St Andrew’s Junior College
CATEGORIES:Outreach
END:VEVENT
BEGIN:VEVENT
DTSTART;TZID=UTC:20200118T093000
DTEND;TZID=UTC:20200118T120000
DTSTAMP:20260425T182104
CREATED:20200115T025511Z
LAST-MODIFIED:20200115T025511Z
UID:15013-1579339800-1579348800@usp.nus.edu.sg
SUMMARY:USP Outreach @ Yishun Innova Junior College 1st Parent Engagement Session
DESCRIPTION:
URL:https://usp.nus.edu.sg/event/usp-outreach-yishun-innova-junior-college-1st-parent-engagement-session/
LOCATION:Outside Auditorium\, Yishun Innova Junior College
CATEGORIES:Outreach
END:VEVENT
END:VCALENDAR