

BEGIN:VCALENDAR
VERSION:2.0
PRODID:-//University Scholars Programme - ECPv6.1.3//NONSGML v1.0//EN
CALSCALE:GREGORIAN
METHOD:PUBLISH
X-ORIGINAL-URL:https://usp.nus.edu.sg
X-WR-CALDESC:Events for University Scholars Programme
REFRESH-INTERVAL;VALUE=DURATION:PT1H
X-Robots-Tag:noindex
X-PUBLISHED-TTL:PT1H
BEGIN:VTIMEZONE
TZID:UTC
BEGIN:STANDARD
TZOFFSETFROM:+0000
TZOFFSETTO:+0000
TZNAME:UTC
DTSTART:20200101T000000
END:STANDARD
END:VTIMEZONE
BEGIN:VEVENT
DTSTART;TZID=UTC:20200910T193000
DTEND;TZID=UTC:20200910T213000
DTSTAMP:20260420T090132
CREATED:20200908T142707Z
LAST-MODIFIED:20200908T143032Z
UID:16467-1599766200-1599773400@usp.nus.edu.sg
SUMMARY:The Sessions – The Future of Work
DESCRIPTION:Interested in how the landscape of work might change in the next 10 years? How do we catch up with technology and automation? What are some new and upcoming job roles we can look forward to? Join The Sessions for a panel discussion on the future of work in Singapore with 3 esteemed guests – Mr Poon King Wing (Director\, Lee Kuan Yew Centre for Innovative Cities\, SUTD)\, Ms Jean See (Director\, Freelancers and Self-Employment Unit\, NTUC) and Mr Benjamin Mah (Regional Director\, Strategy & Business Innovation\, Oracle (JAPAC).
URL:https://usp.nus.edu.sg/event/the-sessions-the-future-of-work/
LOCATION:Online: via Zoom
CATEGORIES:Student Life
END:VEVENT
END:VCALENDAR