

BEGIN:VCALENDAR
VERSION:2.0
PRODID:-//University Scholars Programme - ECPv6.1.3//NONSGML v1.0//EN
CALSCALE:GREGORIAN
METHOD:PUBLISH
X-WR-CALNAME:University Scholars Programme
X-ORIGINAL-URL:https://usp.nus.edu.sg
X-WR-CALDESC:Events for University Scholars Programme
REFRESH-INTERVAL;VALUE=DURATION:PT1H
X-Robots-Tag:noindex
X-PUBLISHED-TTL:PT1H
BEGIN:VTIMEZONE
TZID:UTC
BEGIN:STANDARD
TZOFFSETFROM:+0000
TZOFFSETTO:+0000
TZNAME:UTC
DTSTART:20170101T000000
END:STANDARD
END:VTIMEZONE
BEGIN:VEVENT
DTSTART;TZID=UTC:20170527T093000
DTEND;TZID=UTC:20170527T163000
DTSTAMP:20260424T020044
CREATED:20190717T084512Z
LAST-MODIFIED:20190821T064231Z
UID:10354-1495877400-1495902600@usp.nus.edu.sg
SUMMARY:Permaculture@USP: Gardener's Basic Workshop
DESCRIPTION:Gardener’s Series (Basic) \n\nPlant Physiology & Soil Science\nPlant Propagation & Seeds\nLocal Ediblevs\nNature Awareness\n\nThe workshop is proudly brought to you by Permaculture @ USP\nSubsidized fees for USP Students @ $20; NUS students @ $90; Public @ $180\nSeats are limited. Register now at: www.cnle.com.sg
URL:https://usp.nus.edu.sg/event/permacultureusp-gardeners-basic-workshop/2017-05-27/
LOCATION:USP @ Cinnamon College\, Tutorial Room 1
END:VEVENT
END:VCALENDAR